{"text_format":"1","workbook":"xlsx","n_sheets":21,"sheets":["Dashboard","Status","Dropdowns","Utility Worksheet Info","Main Form","A-3","A-5","A-5Q","A-6E","A-6N","A-7PR","A-7PT","A-8","A-9","A-10","Utility Impact Sheet Info","Utility Impact Sheet Table","Plansheet Template","Gantt_PC","Gantt_DC","Abbreviation"],"not_rendered":{"charts":0,"images":0,"macros":1,"external_links":0,"defined_names":2,"comments":2,"pivot_tables":0},"unopened":[],"bounds":{"document_bytes":16777216,"sheet_cells":100000,"rows_first":2000,"rows_last":500,"rows_between":2000,"halvings":0,"cell_chars":16384,"cell_head_chars":4096},"cells_cut":0,"cells_raw":0,"read":"whole","date_system":"1900"}

{"sheet":"Dashboard","index":0,"n_rows":37,"n_cols":46,"rows_kept":37,"cut":false,"hidden":false,"merged":[[3,2,3,3],[32,2,33,5],[6,3,6,11],[9,3,9,11],[17,3,17,11],[25,3,25,11],[19,7,19,9],[19,10,19,11]]}
[]
[]
[null,null,"UTILITY WORKSHEET ADMIN TOOL",null,null,null,null,null,null,null,null,null,null,null,null,null,null,null,null,null,null,null,null,null,null,null,null,"CHECK FOR ERRORS"]
[null,null,"2026-03-01",null,null,null,null,null,null,null,null,null,null,null,null,null,null,null,null,null,null,null,null,null,null,null,null,{"$f":"MIN(AC5,AC16,AC21,AC35)","v":-1},"CREATE",null,null,null,null,null,{"$f":"MIN(AJ5,AJ6)","v":-1},"IMPORT",null,null,null,null,null,null,{"$f":"MIN(AR5,AR6)","v":-1},"UTILITY IMPACT SHEETS"]
[null,null,null,null,null,null,null,null,null,null,null,null,null,null,null,null,null,null,null,null,null,null,null,null,null,null,null,null,{"$f":"MIN(AD6,AD10,AD11)","v":-1},"Dropdowns Filled In",null,null,null,null,null,{"$f":"IF(D18=\"\",-1,1)","v":-1},"Folder Location Filled In",null,null,null,null,null,null,{"$f":"IF(D26=\"\",-1,1)","v":-1},"Folder Location Filled In"]
[null,null,null,"CREATION FOLDER LOCATION",null,null,null,null,null,null,null,null,null,null,null,null,null,null,null,null,null,null,null,null,null,null,null,null,null,{"$f":"MIN(AE7:AE9)","v":-1},"Alignment Table",null,null,null,null,{"$f":"IF(K20=\"\",-1,1)","v":-1},"Construction Begins Filled In",null,null,null,null,null,null,{"$f":"MIN(AS7:AS10)","v":-1},"Plansheet Info Table"]
[null,null,null,null,null,null,null,null,null,null,null,null,null,null,null,null,null,null,null,null,null,null,null,null,null,null,null,null,null,null,{"$f":"IF(COUNTA(ALG[ALIGNMENT])=ROWS(ALG[]),1,IF(COUNTA(ALG[ALIGNMENT])=0,-1,-1))","v":-1},"Alignment",null,null,null,null,null,null,null,null,null,null,null,null,{"$f":"IF(COUNTA(Matchline[UTILITY IMPACT PLAN SHEET '#])=ROWS(Matchline[]),1,IF(COUNTA(Matchline[UTILITY IMPACT PLAN SHEET '#])=0,-1,0))","v":-1},"Utility Plan Sheet"]
[null,null,null,null,null,null,null,null,null,null,null,null,null,null,null,null,null,null,null,null,null,null,null,null,null,null,null,null,null,null,{"$f":"IF(COUNTA(ALG[MIN STATION])=ROWS(ALG[]),1,IF(COUNTA(ALG[MIN STATION])=0,-1,-1))","v":-1},"Min Station",null,null,null,null,null,null,null,null,null,null,null,null,{"$f":"IF(COUNTA(Matchline[ALIGNMENT])=ROWS(Matchline[]),1,IF(COUNTA(Matchline[ALIGNMENT])=0,-1,0))","v":-1},"Alignment"]
[null,null,null,"TEMPLATE UTILITY WORKSHEET FILEPATH",null,null,null,null,null,null,null,null,null,null,null,null,null,null,null,null,null,null,null,null,null,null,null,null,null,null,{"$f":"IF(COUNTA(ALG[MAX STATION])=ROWS(ALG[]),1,IF(COUNTA(ALG[MAX STATION])=0,-1,-1))","v":-1},"Max Station",null,null,null,null,null,null,null,null,null,null,null,null,{"$f":"IF(COUNTA(Matchline[MATCHLINE START STATION])=ROWS(Matchline[]),1,IF(COUNTA(Matchline[MATCHLINE START STATION])=0,-1,0))","v":-1},"Matchline Start Station"]
[null,null,null,null,null,null,null,null,null,null,null,null,null,null,null,null,null,null,null,null,null,null,null,null,null,null,null,null,null,{"$f":"IF(COUNTA(PRS[PROJECT STAGES])=ROWS(PRS[]),1,IF(COUNTA(PRS[PROJECT STAGES])=0,-1,0))","v":-1},"Project Stages Table",null,null,null,null,null,null,null,null,null,null,null,null,null,{"$f":"IF(COUNTA(Matchline[MATCHLINE END STATION])=ROWS(Matchline[]),1,IF(COUNTA(Matchline[MATCHLINE END STATION])=0,-1,0))","v":-1},"Matchline End Station"]
[null,null,null,null,null,null,null,null,null,null,null,null,null,null,null,null,null,null,null,null,null,null,null,null,null,null,null,null,null,{"$f":"MIN(AE12:AE15)","v":-1},"Utility Owner Table"]
[null,null,null,null,null,null,null,null,null,null,null,null,null,null,null,null,null,null,null,null,null,null,null,null,null,null,null,null,null,null,{"$f":"IF(COUNTA(UTE[UTILITY NAME])=ROWS(UTE[]),1,IF(COUNTA(UTE[UTILITY NAME])=0,-1,0))","v":-1},"Utility Name"]
[null,null,null,null,null,null,null,null,null,null,null,null,null,null,null,null,null,null,null,null,null,null,null,null,null,null,null,null,null,null,{"$f":"IF(COUNTA(UTE[UTILITY FACILITY TYPE])=ROWS(UTE[]),1,IF(COUNTA(UTE[UTILITY FACILITY TYPE])=0,-1,0))","v":-1},"Utility Type"]
[null,null,null,null,null,null,null,null,null,null,null,null,null,null,null,null,null,null,null,null,null,null,null,null,null,null,null,null,null,null,{"$f":"IF(COUNTA(UTE[UTILITY ENTITIES])=ROWS(UTE[]),1,IF(COUNTA(UTE[UTILITY ENTITIES])=0,-1,0))","v":1},"Utility Entities"]
[null,null,null,null,null,null,null,null,null,null,null,null,null,null,null,null,null,null,null,null,null,null,null,null,null,null,null,null,null,null,{"$f":"IF(COUNTA(UTE[UTILITY ABBR])=ROWS(UTE[]),1,IF(COUNTA(UTE[UTILITY ABBR])=0,-1,0))","v":-1},"Utility Abbreviations"]
[null,null,null,null,null,null,null,null,null,null,null,null,null,null,null,null,null,null,null,null,null,null,null,null,null,null,null,null,{"$f":"MIN(AD17:AD20)","v":-1},"Titleblock Information Complete"]
[null,null,null,"RETURNED UTILITY WORKSHEET FOLDER LOCATION",null,null,null,null,null,null,null,null,null,null,null,null,null,null,null,null,null,null,null,null,null,null,null,null,null,{"$f":"IF(COUNTA('Utility Worksheet Info'!C5:G8)=4,1,-1)","v":-1},"Project Description"]
[null,null,null,null,null,null,null,null,null,null,null,null,null,null,null,null,null,null,null,null,null,null,null,null,null,null,null,null,null,{"$f":"IF(COUNTA('Utility Worksheet Info'!K5:K8)=4,1,-1)","v":-1},"Project IDs"]
[null,null,null,null,null,null,null,null,null,null,null,null,null,null,null,null,null,null,null,null,null,null,null,null,null,null,null,null,null,{"$f":"IF(COUNTA('Utility Worksheet Info'!C12:G15)=4,1,-1)","v":-1},"Coordinator Information"]
[null,null,null,null,null,null,null,"CONSTRUCTION BEGINS:",null,null,null,null,null,null,null,null,null,null,null,null,null,null,null,null,null,null,null,null,null,{"$f":"IF(COUNTA('Utility Worksheet Info'!K12:K15)=4,1,-1)","v":-1},"Dates & Version"]
[null,null,null,null,null,null,null,null,null,null,null,null,null,null,null,null,null,null,null,null,null,null,null,null,null,null,null,null,{"$f":"MIN(AD22:AD34)","v":-1},"Anticipated Conflicts Filled In"]
[null,null,null,null,null,null,null,null,null,null,null,null,null,null,null,null,null,null,null,null,null,null,null,null,null,null,null,null,null,{"$f":"IF(COUNTA(AC[UTILITY ENTITY])=ROWS(AC[]),1,IF(COUNTA(AC[UTILITY ENTITY])=0,-1,-1))","v":-1},"Utility Entity"]
[null,null,null,null,null,null,null,null,null,null,null,null,null,null,null,null,null,null,null,null,null,null,null,null,null,null,null,null,null,{"$f":"IF(COUNTA(AC[ALIGNMENT])=ROWS(AC[]),1,IF(COUNTA(AC[ALIGNMENT])=0,-1,-1))","v":-1},"Alignment"]
[null,null,null,null,null,null,null,null,null,null,null,null,null,null,null,null,null,null,null,null,null,null,null,null,null,null,null,null,null,{"$f":"IF(COUNTA(AC[START STATION])=ROWS(AC[]),1,IF(COUNTA(AC[START STATION])=0,-1,-1))","v":-1},"Start Station"]
[null,null,null,"UTILITY IMPACT SHEET FOLDER LOCATION",null,null,null,null,null,null,null,null,null,null,null,null,null,null,null,null,null,null,null,null,null,null,null,null,null,{"$f":"IF(COUNTA(AC[START DIST])=ROWS(AC[]),1,IF(COUNTA(AC[START DIST])=0,-1,-1))","v":-1},"Start Offset Distance"]
[null,null,null,null,null,null,null,null,null,null,null,null,null,null,null,null,null,null,null,null,null,null,null,null,null,null,null,null,null,{"$f":"IF(COUNTA(AC[START LOC])=ROWS(AC[]),1,IF(COUNTA(AC[START LOC])=0,-1,-1))","v":-1},"Start Offset Location"]
[null,null,null,null,null,null,null,null,null,null,null,null,null,null,null,null,null,null,null,null,null,null,null,null,null,null,null,null,null,{"$f":"IF(COUNTA(AC[END STATION])=ROWS(AC[]),1,IF(COUNTA(AC[END STATION])=0,0,0))","v":0},"End Station"]
[null,null,null,null,null,null,null,null,null,null,null,null,null,null,null,null,null,null,null,null,null,null,null,null,null,null,null,null,null,{"$f":"IF(COUNTA(AC[END DIST])=ROWS(AC[]),1,IF(COUNTA(AC[END DIST])=0,0,0))","v":0},"End Offset Distance"]
[null,null,null,null,null,null,null,null,null,null,null,null,null,null,null,null,null,null,null,null,null,null,null,null,null,null,null,null,null,{"$f":"IF(COUNTA(AC[END LOC])=ROWS(AC[]),1,IF(COUNTA(AC[END LOC])=0,0,0))","v":0},"End Offset Location"]
[null,null,null,null,null,null,null,null,null,null,null,null,null,null,null,null,null,null,null,null,null,null,null,null,null,null,null,null,null,{"$f":"IF(COUNTA(AC[FACILITY CATEGORY])=ROWS(AC[]),1,IF(COUNTA(AC[FACILITY CATEGORY])=0,-1,-1))","v":-1},"OH/UG"]
[null,null,null,null,null,null,null,null,null,null,null,null,null,null,null,null,null,null,null,null,null,null,null,null,null,null,null,null,null,{"$f":"IF(COUNTA(AC[FACILITY SIZE])=ROWS(AC[]),1,IF(COUNTA(AC[FACILITY SIZE])=0,-1,-1))","v":-1},"Facility Size"]
[null,null,null,null,null,null,null,null,null,null,null,null,null,null,null,null,null,null,null,null,null,null,null,null,null,null,null,null,null,{"$f":"IF(COUNTA(AC[FACILITY COMPONENT])=ROWS(AC[]),1,IF(COUNTA(AC[FACILITY COMPONENT])=0,-1,-1))","v":-1},"Facility Component"]
[null,null,{"$f":"HYPERLINK(\"https://wisconsindot.gov/Documents/doing-bus/eng-consultants/cnslt-rsrces/util/worksheet/ja-utlwksht-admtool.pdf\",\"JOB AID LINK\")","v":"JOB AID LINK"},null,null,null,null,null,null,null,null,null,null,null,null,null,null,null,null,null,null,null,null,null,null,null,null,null,null,{"$f":"IF(COUNTA(AC[FACILITY MATERIAL])=ROWS(AC[]),1,IF(COUNTA(AC[FACILITY MATERIAL])=0,-1,-1))","v":-1},"Facility Material"]
[null,null,null,null,null,null,null,null,null,null,null,null,null,null,null,null,null,null,null,null,null,null,null,null,null,null,null,null,null,{"$f":"IF(COUNTA(AC[IN ANTICIPATED CONFLICT WITH])=ROWS(AC[]),1,IF(COUNTA(AC[IN ANTICIPATED CONFLICT WITH])=0,-1,-1))","v":-1},"In Anticipated Conflict With"]
[null,null,null,null,null,null,null,null,null,null,null,null,null,null,null,null,null,null,null,null,null,null,null,null,null,null,null,null,{"$f":"MIN(AD36:AE36)","v":-1},"Paths Filled In"]
[null,null,null,null,null,null,null,null,null,null,null,null,null,null,null,null,null,null,null,null,null,null,null,null,null,null,null,null,null,{"$f":"IF(D7=\"\",-1,1)","v":-1},"Creation Folder Location"]
[null,null,null,null,null,null,null,null,null,null,null,null,null,null,null,null,null,null,null,null,null,null,null,null,null,null,null,null,null,{"$f":"IF(D10=\"\",-1,1)","v":-1},"Template Utility Worksheet Location"]

{"sheet":"Status","index":1,"n_rows":114,"n_cols":35,"rows_kept":114,"cut":false,"hidden":false,"merged":[[10,29,10,32],[10,33,10,34],[10,0,10,1],[10,2,10,5],[10,22,10,24],[10,25,10,28],[10,13,10,21],[10,6,10,12]]}
["Design ID:",{"$f":"'Utility Worksheet Info'!K5","v":0},null,"Earliest Possible Letting:",null,null,null,"MM/DD/YYYY",null,"Earliest Possible PS&E:",null,"Earliest Possible PS&E:",null,null,"MM/DD/YYYY"]
["Construction ID:",{"$f":"'Utility Worksheet Info'!K6","v":0},null,"Letting:",null,null,null,"MM/DD/YYYY",null,"PS&E:",null,"PS&E:",null,null,"MM/DD/YYYY"]
["Title:",{"$f":"'Utility Worksheet Info'!C5","v":0},null,"Improvement Concept:",null,null,null,"type",null,"Final Task List Complete:",null,"Final Task List Complete:",null,null,"MM/DD/YYYY"]
["Limits:",{"$f":"'Utility Worksheet Info'!C6","v":0},null,"Required Project Lead Time:",null,null,null,"working days",null,"Region Review Complete:",null,"Region Review Complete:",null,null,"MM/DD/YYYY"]
["Highway:",{"$f":"'Utility Worksheet Info'!C7","v":0},null,"(Excludes extra days for Comp or Coordinating Work)",null,null,null,null,null,"Final DT1080 (USR) Complete:",null,"Final DT1080 (USR) Complete:",null,null,"MM/DD/YYYY"]
["County:",{"$f":"'Utility Worksheet Info'!C8","v":0},null,"Required Project Plan Mail Date:",null,null,null,"MM/DD/YYYY",null,"Utility Coordination Completed:",null,"Utility Coordination Completed:",null,null,"MM/DD/YYYY"]
["Region:",null,null,"Desired Project Plan Mail Date:",null,null,null,"MM/DD/YYYY"]
[null,null,null,"Fast Track Project?",null,null,null,"Y/N"]
[null,null,null,"Trans 220 (Y/N):",null,null,null,"Y/N",null,"MSR Tracking:",null,"MSR Tracking:",null,null,"Y/N"]
["UTILITY COORDINATION TRACKING SPREADSHEET"]
["UTILITY",null,"1077 NOTIFICATION\n(60 DAYS)",null,null,null,"1078 PROJECT PLAN",null,null,null,null,null,null,"UTILITY WORK PLAN STATUS",null,null,null,null,null,null,null,null,"MEETINGS",null,null,"UTILITY AGREEMENTS",null,null,null,"CONVEYANCES",null,null,null,"RELOCATIONS/ADJUSTMENTS"]
["OWNER","TYPE","DATE 1077 QC'D","DATE SENT\n220.04(3)","DATE ACKNOWLEDGEMENT RECEIVED\n(DUE - 7 DAYS)\n220.04(3)","DATE SYSTEM MAPS OR DESCRIPTION RECEIVED\n220.04(5)","DATE 1078 FORMS QC'D","DATE SENT\n220.05(1)","DATE ACKNOWLEDGEMENT RECEIVED\n(DUE - 7 DAYS)\n220.05(2)","REVISED PROJECT PLAN SENT\n220.05(12)","DATE ACKNOWLEDGEMENT RECEIVED\n(DUE - 7 DAYS)\n220.05(2)","REVISED PROJECT PLAN SENT\n220.05(12)","DATE ACKNOWLEDGEMENT RECEIVED\n(DUE - 7 DAYS)\n220.05(2)","REQUIRED RETURN DATE\n220.05(4)","ORIGINAL 1078\nDATE RECEIVED","1078 REV 1\nDATE RECEIVED","1078 REV 2\nDATE RECEIVED","DATE DENIAL NOTICE SENT\n220.05(7)","DATE REVISION RECEIVED\n220.05(7)","DATE APPROVAL RECOM. SENT","DATE APPROVAL SENT\n220.05(7)","DATE START WORK NOTICE SENT\n220.05(9)","UTILITY COORD. MTG #1","UTILITY COORD. MTG #2","UTILITY COORD. MTG #3","DEADLINE TO SEND TO UTILITY","DATE QC'D\n(FILE DOC.)","DATE SENT","DATE RECEIVED","DEADLINE TO SEND TO UTILITY","DATE QC'D\n(FILE DOC.)","DATE SENT","DATE RECEIVED","DATE STARTED","DATE COMPLETED"]
[null,null,null,null,null,null,null,null,null,null,null,null,null,null,null,null,null,{"$f":"IF(OR($F13=\"NLV\",$F13=\"NFPD\",$F13=\"NOP\"),\"N/A\",\"\")","v":""},"",null,null,null,null,null,null,{"$f":"IF(OR($F13=\"NLV\",$F13=\"NFPD\",$F13=\"NOP\"),\"N/A\",\"\")","v":""},"","","","","","","","",""]
[null,null,null,null,null,null,null,null,null,null,null,null,null,null,null,null,null,"","",null,null,null,null,null,null,"","","","","","","","","",""]
[null,null,null,null,null,null,null,null,null,null,null,null,null,null,null,null,null,"","",null,null,null,null,null,null,"","","","","","","","","",""]
[null,null,null,null,null,null,null,null,null,null,null,null,null,null,null,null,null,"","",null,null,null,null,null,null,"","","","","","","","","",""]
[null,null,null,null,null,null,null,null,null,null,null,null,null,null,null,null,null,"","",null,null,null,null,null,null,"","","","","","","","","",""]
[null,null,null,null,null,null,null,null,null,null,null,null,null,null,null,null,null,"","",null,null,null,null,null,null,"","","","","","","","","",""]
[null,null,null,null,null,null,null,null,null,null,null,null,null,null,null,null,null,"","",null,null,null,null,null,null,"","","","","","","","","",""]
[null,null,null,null,null,null,null,null,null,null,null,null,null,null,null,null,null,"","",null,null,null,null,null,null,"","","","","","","","","",""]
[null,null,null,null,null,null,null,null,null,null,null,null,null,null,null,null,null,"","",null,null,null,null,null,null,"","","","","","","","","",""]
[null,null,null,null,null,null,null,null,null,null,null,null,null,null,null,null,null,{"$f":"IF(OR($F22=\"NLV\",$F22=\"NFPD\",$F22=\"NOP\"),\"N/A\",\"\")","v":""},null,null,null,null,null,null,null,"","","","","","","","","",""]
[null,null,null,null,null,null,null,null,null,null,null,null,null,null,null,null,null,"",{"$f":"IF(OR($F23=\"NLV\",$F23=\"NFPD\",$F23=\"NOP\"),\"N/A\",\"\")","v":""},null,null,null,null,null,null,{"$f":"IF(OR($F23=\"NLV\",$F23=\"NFPD\",$F23=\"NOP\"),\"N/A\",\"\")","v":""},"","","","","","","","",""]
[null,null,null,null,null,null,null,null,null,null,null,null,null,null,null,null,null,"","",null,null,null,null,null,null,"","","","","","","","","",""]
[null,null,null,null,null,null,null,null,null,null,null,null,null,null,null,null,null,"","",null,null,null,null,null,null,"","","","","","","","","",""]
[null,null,null,null,null,null,null,null,null,null,null,null,null,null,null,null,null,"","",null,null,null,null,null,null,"","","","","","","","","",""]
[null,null,null,null,null,null,null,null,null,null,null,null,null,null,null,null,null,"","",null,null,null,null,null,null,"","","","","","","","","",""]
[null,null,null,null,null,null,null,null,null,null,null,null,null,null,null,null,null,"","",null,null,null,null,null,null,"","","","","","","","","",""]
[null,null,null,null,null,null,null,null,null,null,null,null,null,null,null,null,null,"","",null,null,null,null,null,null,"","","","","","","","","",""]
[null,null,null,null,null,null,null,null,null,null,null,null,null,null,null,null,null,"","",null,null,null,null,null,null,"","","","","","","","","",""]
[null,null,null,null,null,null,null,null,null,null,null,null,null,null,null,null,null,"","",null,null,null,null,null,null,"","","","","","","","","",""]
[null,null,null,null,null,null,null,null,null,null,null,null,null,null,null,null,null,"","",null,null,null,null,null,null,"","","","","","","","","",""]
[null,null,null,null,null,null,null,null,null,null,null,null,null,null,null,null,null,"","",null,null,null,null,null,null,"","","","","","","","","",""]
[]
[]
[null,null,null,null,null,null,null,null,null,null,null,null,null,null,null,null,null,{"$f":"IF(OR($F36=\"NLV\",$F36=\"NFPD\",$F36=\"NOP\"),\"N/A\",\"\")","v":""},"",null,null,null,null,null,null,{"$f":"IF(OR($F36=\"NLV\",$F36=\"NFPD\",$F36=\"NOP\"),\"N/A\",\"\")","v":""},"","","","","","","","",""]
[null,null,null,null,null,null,null,null,null,null,null,null,null,null,null,null,null,"","",null,null,null,null,null,null,"","","","","","","","","",""]
[null,null,null,null,null,null,null,null,null,null,null,null,null,null,null,null,null,"","",null,null,null,null,null,null,"","","","","","","","","",""]
[null,null,null,null,null,null,null,null,null,null,null,null,null,null,null,null,null,"","",null,null,null,null,null,null,"","","","","","","","","",""]
[null,null,null,null,null,null,null,null,null,null,null,null,null,null,null,null,null,"","",null,null,null,null,null,null,"","","","","","","","","",""]
[null,null,null,null,null,null,null,null,null,null,null,null,null,null,null,null,null,"","",null,null,null,null,null,null,"","","","","","","","","",""]
[null,null,null,null,null,null,null,null,null,null,null,null,null,null,null,null,null,{"$f":"IF(OR($F42=\"NLV\",$F42=\"NFPD\",$F42=\"NOP\"),\"N/A\",\"\")","v":""},null,null,null,null,null,null,null,"","","","","","","","","",""]
[null,null,null,null,null,null,null,null,null,null,null,null,null,null,null,null,null,"",{"$f":"IF(OR($F43=\"NLV\",$F43=\"NFPD\",$F43=\"NOP\"),\"N/A\",\"\")","v":""},null,null,null,null,null,null,"","","","","","","","","",""]
[null,null,null,null,null,null,null,null,null,null,null,null,null,null,null,null,null,"","",null,null,null,null,null,null,"","","","","","","","","",""]
[null,null,null,null,null,null,null,null,{"$f":"IF(OR($F45=\"NLV\",$F45=\"NFPD\",$F45=\"NOP\"),\"N/A\",\"\")","v":""},"","","","","","","","","","",{"$f":"IF(OR($F45=\"NLV\",$F45=\"NFPD\",$F45=\"NOP\"),\"N/A\",\"\")","v":""},"","","","","","","","","","","","","","",""]
[null,null,null,null,null,null,{"$f":"IF(OR($F46=\"NLV\",$F46=\"NFPD\",$F46=\"NOP\"),\"N/A\",\"\")","v":""},"","","","","","","","",null,null,"","",{"$f":"IF(OR($F46=\"NLV\",$F46=\"NFPD\",$F46=\"NOP\"),\"N/A\",\"\")","v":""},"","",null,{"$f":"IF(OR($F46=\"NLV\",$F46=\"NFPD\",$F46=\"NOP\"),\"N/A\",\"\")","v":""},"",{"$f":"IF(OR($F46=\"NLV\",$F46=\"NFPD\",$F46=\"NOP\"),\"N/A\",\"\")","v":""},"","","","","","","","",""]
[null,null,null,null,null,null,"","","","","","","","","",{"$f":"IF(OR($F47=\"NLV\",$F47=\"NFPD\",$F47=\"NOP\"),\"N/A\",\"\")","v":""},"","","","","","",null,"","","","","","","","","","","",""]
[null,null,null,null,null,null,"","","","","","","","","","","","","","","","",null,"","","","","","","","","","","",""]
[null,null,null,null,null,null,"","","","","","","","","","","","","","","","",null,"","","","","","","","","","","",""]
[null,null,null,null,null,null,"","","","","","","","","","","","","","","","",null,"","","","","","","","","","","",""]
[null,null,null,null,null,null,"","","","","","","","","","","","","",null,{"$f":"IF(OR($F51=\"NLV\",$F51=\"NFPD\",$F51=\"NOP\"),\"N/A\",\"\")","v":""},"",null,"","","","","","","","","","","",""]
[null,null,null,null,null,null,"","","","","","","","","","","","","",null,"","",null,"","","","","","","","","","","",""]
[null,null,null,null,null,null,"","","","","","","","","","","","","",null,"","",null,"","","","","","","","","","","",""]
[null,null,null,null,null,null,"","","","","","","","","","","","","",null,"","",null,"","","","","","","","","","","",""]
[null,null,null,null,null,null,"","","","","","","","","","","",null,"",{"$f":"IF(OR($F55=\"NLV\",$F55=\"NFPD\",$F55=\"NOP\"),\"N/A\",\"\")","v":""},"","",{"$f":"IF(OR($F55=\"NLV\",$F55=\"NFPD\",$F55=\"NOP\"),\"N/A\",\"\")","v":""},"","",{"$f":"IF(OR($F55=\"NLV\",$F55=\"NFPD\",$F55=\"NOP\"),\"N/A\",\"\")","v":""},"","","","","","",""]
[null,null,null,null,null,null,{"$f":"IF(OR($F56=\"NLV\",$F56=\"NFPD\",$F56=\"NOP\"),\"N/A\",\"\")","v":""},"","","","","","","","","","",null,"","","","","","","","","","","","","","",""]
[null,null,null,null,null,null,"","","","","","","","","","","",null,"","","","","","","","","","","","","","",""]
[null,null,null,null,null,null,"","","","","","","","","","","",null,"","","","","","","","","","","","","","",""]
[null,null,null,null,null,null,"","","","","","","","","","","",null,"","","","","","","","","","","","","","",""]
[null,null,null,null,null,null,"","","","","","","","","","","",null,"","","","","","","","","","","","","","",""]
[null,null,null,null,null,null,"","","","","","","","","","","",null,"","","","","","","","","","","","","","",""]
[null,null,null,null,null,null,"","","","","","","","","","","",null,"","","","","","","","","","","","","","",""]
[null,null,null,null,null,null,"","","","","","","","","","","",null,"","","","","","","","","","","","","","",""]
[null,null,null,null,null,null,"","","","","","","","","","","",null,"","","","","","","","","","","","","","",""]
[null,null,null,null,null,null,"","","","","","","","","","","",null,"","","","","","","",{"$f":"IF(OR($F65=\"NLV\",$F65=\"NFPD\",$F65=\"NOP\"),\"N/A\",\"\")","v":""},"","","","","","",""]
[null,null,null,null,null,null,{"$f":"IF(OR($F66=\"NLV\",$F66=\"NFPD\",$F66=\"NOP\"),\"N/A\",\"\")","v":""},"","","","","","","","","","",null,"","","","","",{"$f":"IF(OR($F66=\"NLV\",$F66=\"NFPD\",$F66=\"NOP\"),\"N/A\",\"\")","v":""},"","","","","","","","",""]
[null,null,null,null,null,null,"","","","","","","","","",{"$f":"IF(OR($F67=\"NLV\",$F67=\"NFPD\",$F67=\"NOP\"),\"N/A\",\"\")","v":""},"",null,"","","","","","","","","","","","","","",""]
[null,null,null,null,null,null,"","","","","","","","","","","",null,"","","","","","","","","","","","","","",""]
[null,null,null,null,null,null,"","","","","","","","","","","",null,"","","","","","","","","","","","","","",""]
[null,null,null,null,null,null,"","","","","","","","","","","",null,"","","","","","","","","","","","","","",""]
[null,null,null,null,null,null,"","","","","","","","","","","",null,"","",{"$f":"IF(OR($F71=\"NLV\",$F71=\"NFPD\",$F71=\"NOP\"),\"N/A\",\"\")","v":""},"","","","","","","","","","","",""]
[null,null,null,null,null,null,"","","","","","","","","","","",null,"","","","","","","","","","","","","","",""]
[null,null,null,null,null,null,"","","","","","","","","","","",null,"","","","","","","","","","","","","","",""]
[null,null,null,null,null,null,"","","","","","","","","","","",null,"","","","","","","","","","","","","","",""]
[null,null,null,null,null,null,"","","","","","","","","","","",null,{"$f":"IF(OR($F75=\"NLV\",$F75=\"NFPD\",$F75=\"NOP\"),\"N/A\",\"\")","v":""},"","","","","","",{"$f":"IF(OR($F75=\"NLV\",$F75=\"NFPD\",$F75=\"NOP\"),\"N/A\",\"\")","v":""},"","","","","","",""]
[null,null,null,null,null,null,{"$f":"IF(OR($F76=\"NLV\",$F76=\"NFPD\",$F76=\"NOP\"),\"N/A\",\"\")","v":""},"","","","","","","","","","",null,"","","","","","","","","","","","","","",""]
[null,null,null,null,null,null,"","","","","","","","","","","",null,"","","","","","","","","","","","","","",""]
[null,null,null,null,null,null,"","","","","","","","","","","",null,"","","","","","","","","","","","","","",""]
[null,null,null,null,null,null,"","","","","","","","","","","",null,"","","","","","","","","","","","","","",""]
[null,null,null,null,null,null,"","","","","","","","","","","",null,"","","","","","","","","","","","","","",""]
[null,null,null,null,null,null,"","","","","","","","","","","",null,"","","","","","","","","","","","","","",""]
[null,null,null,null,null,null,"","","","","","","","","","","",null,"","","","","","","","","","","","","","",""]
[null,null,null,null,null,null,"","","","","","","","","","","",null,"","","","","","","","","","","","","","",""]
[null,null,null,null,null,null,"","","","","","","","","","","",null,"","","","","","","","","","","","","","",""]
[null,null,null,null,null,null,"","","","","","","","","","","",null,"","","","","","","",{"$f":"IF(OR($F85=\"NLV\",$F85=\"NFPD\",$F85=\"NOP\"),\"N/A\",\"\")","v":""},"","","","","","",""]
[null,null,null,null,null,null,{"$f":"IF(OR($F86=\"NLV\",$F86=\"NFPD\",$F86=\"NOP\"),\"N/A\",\"\")","v":""},"","","","","","","","","","",null,"","","","","",{"$f":"IF(OR($F86=\"NLV\",$F86=\"NFPD\",$F86=\"NOP\"),\"N/A\",\"\")","v":""},"","","","","","","","",""]
[null,null,null,null,null,null,"","","","","","","","","",{"$f":"IF(OR($F87=\"NLV\",$F87=\"NFPD\",$F87=\"NOP\"),\"N/A\",\"\")","v":""},"",null,"",{"$f":"IF(OR($F87=\"NLV\",$F87=\"NFPD\",$F87=\"NOP\"),\"N/A\",\"\")","v":""},"","",{"$f":"IF(OR($F87=\"NLV\",$F87=\"NFPD\",$F87=\"NOP\"),\"N/A\",\"\")","v":""},"","","","","","","","","",""]
[null,null,null,null,null,null,"","","","","","","","","","","",null,"","","","","","","","","","","","","","",""]
[null,null,null,null,null,null,"","","","","","","","","","","",null,"","","","","","","","","","","","","","",""]
[null,null,null,null,null,null,"","","","","","","","","","","",null,"","","","","","","","","","","","","","",""]
[null,null,null,null,null,null,"","","","","","","","","","","",null,"","",{"$f":"IF(OR($F91=\"NLV\",$F91=\"NFPD\",$F91=\"NOP\"),\"N/A\",\"\")","v":""},"","","","","","","","","","","",""]
[null,null,null,null,null,null,"","","","","","","","","","","",null,"","","","","","","","","","","","","","",""]
[null,null,null,null,null,null,"","","","","","","","","","","",null,"","","","","","","","","","","","","","",""]
[null,null,null,null,null,null,"","","","","","","","","","","",null,"","","","","","","","","","","","","","",""]
[null,null,null,null,null,null,"","","","","","","","","","","",null,"","","","","","","",{"$f":"IF(OR($F95=\"NLV\",$F95=\"NFPD\",$F95=\"NOP\"),\"N/A\",\"\")","v":""},"","","","","","",""]
[null,null,null,null,null,null,{"$f":"IF(OR($F96=\"NLV\",$F96=\"NFPD\",$F96=\"NOP\"),\"N/A\",\"\")","v":""},"","","","","","","","","","",null,"","","","","","","","","","","","","","",""]
[null,null,null,null,null,null,"","","","","","","","","","","",null,"","","","","","","","","","","","","","",""]
[null,null,null,null,null,null,"","","","","","","","","","","",null,"","","","","","","","","","","","","","",""]
[null,null,null,null,null,null,"","","","","","","","","","","",null,"","","","","","","","","","","","","","",""]
[null,null,null,null,null,null,"","","","","","","","","","","",null,"","","","","","","","","","","","","","",""]
[null,null,null,null,null,null,"","","","","","","","","","","",null,"","","","","","","","","","","","","","",""]
[null,null,null,null,null,null,"","","","","","","","","","","",null,"","","","","","","","","","","","","","",""]
[null,null,null,null,null,null,"","","","","","","","","","","",null,"","","","","","","","","","","","","","",""]
[null,null,null,null,null,null,"","","","","","","","","","","",null,"","","","","","","","","","","","","","",""]
[null,null,null,null,null,null,"","","","","","","","","","","",null,"","","","","","","","","","","","","","",""]
[null,null,null,null,null,null,"","","","","","","","","","","",null,"","","","","","","","","","","","","","",""]
[null,null,null,null,null,null,"","","","","","","","","","","",null,"","","","","","","","","","","","","","",""]
[null,null,null,null,null,null,"","","","","","","","","","","",null,"","","","","","","","","","","","","","",""]
["LEGEND"]
["NLV = No Longer Valid"]
["NFPD = No Facilities as Per DT1077"]
["NOP = Not on Project"]
[]
["NOTE: All cells except those under \"1077\" contain a formula to put \"N/A\" if NLV, NFPD, or NOP is present in 1077 \"Date Received\" column."]

{"sheet":"Dropdowns","index":2,"n_rows":45,"n_cols":39,"rows_kept":45,"cut":false,"hidden":false,"merged":[[1,1,1,38]]}
[]
[null,"UTILITY WORKSHEET DROPDOWNS"]
[null,"ALG",null,null,null,"PRS",null,"UTE",null,null,null,null,"UTT",null,null,null,"CRW",null,"FCO",null,"FMA",null,"HCW",null,"LIR",null,"ITM",null,"PMT",null,"PRO",null,"UWP",null,"RFA",null,"EPA",null,"RBY"]
[null,"ALIGNMENT","MIN STATION","MAX STATION",null,"PROJECT STAGES",null,"UTILITY NAME","UTILITY FACILITY TYPE","UTILITY ENTITIES","UTILITY ABBR",null,"UTILITY FACILITY TYPES","TUMS ABBR","PLAN ABBR",null,"CONFLICT / REASON FOR WORK",null,"FACILITY COMPONENT",null,"FACILITY MATERIAL",null,"HIGHWAY CONTRACT WORK COMPLETED",null,"LAND INTEREST REQUIRED",null,"ITEM",null,"PERMIT",null,"PROTECTION TYPE",null,"UTILITY WORK PERFORMED",null,"REASON FOR ACQUISITION",null,"TEMPORARY EASEMENTS, PERMISSIONS, ACCESS",null,"REMOVAL BY"]
[null,null,null,null,null,null,null,null,null,{"$f":"UTE[[#This Row],[UTILITY NAME]]&\" - \"&UTE[[#This Row],[UTILITY FACILITY TYPE]]","v":" - "},null,null,"Communication Line","COMLN","CL",null,"Bridge",null,"Cover",null,"Aluminum",null,"Clearing and / or Grubbing",null,"Easement",null,"Removal of structures",null,"WisDOT Utility Permit (DT1553)",null,"Support and/or Hold Pole(s)",null,"Relocation",null,"Inadequate Space in Right of Way",null,"Temporary Easements",null,"Utility Owner"]
[null,null,null,null,null,null,null,null,null,null,null,null,"Communication Tower","CONTW","CT",null,"Temporary Bridge",null,"Combined Sewer",null,"Steel",null,"Topsoil Removed",null,"Fee title",null,"Removal of concrete/stone",null,"Local Approval and/or Permit for Utility Work",null,"Temporarily De-Energize Electric Lines",null,"Reconstruction",null,"Highway Construction Staging",null,"Temporary Access",null,"Highway Contract"]
[null,null,null,null,null,null,null,null,null,null,null,null,"Electricity - Transmission","ELCTT","ET",null,"Cofferdam",null,"Gravity Main",null,"Copper",null,"Pavement Removed",null,"Long-term lease",null,"Removal of crops",null,"Adjacent Property Owner Approval of Proposed Locations of Utility Facilities",null,"Cover or Shield Electric Conductors",null,"Rearrangement",null,"Cost Savings",null,"Permission from Private Landowner(s)"]
[null,null,null,null,null,null,null,null,null,null,null,null,"Electricity","ELCTY","E",null,"Temporary Shoring",null,"Force Main",null,"Fiber Optic",null,"Structure Removed",null,"Other - describe in NARRATIVE",null,"Removal of landscape features",null,"US Army Corps of Engineers Permit",null,"Expose, Support, Brace, Tie-Back, Attach, and/or Suspend Underground Utility Facility",null,"Installation",null,"Not Allowed in Right of Way",null,"Other - Describe in Narrative"]
[null,null,null,null,null,null,null,null,null,null,null,null,"Gas-Petroleum","GSPTR","G",null,"Box Culvert",null,"Water Main",null,"Plastic",null,"Temporary Roadway",null,null,null,"Removal of private utilities",null,"Wisconsin DNR Environmental Permit",null,"Temporary Shoring",null,"Splicing",null,"Other - Describe in Narrative",null,"Not Applicable"]
[null,null,null,null,null,null,null,null,null,null,null,null,"Sanitary Sewer","SEWR","SAN",null,"Retaining Wall",null,"Pipeline",null,"Fiberglass",null,"Temporary Diversion Channel",null,null,null,"Removal/adjustment of drainage facilities",null,"Wisconsin DNR Erosion Control Permit",null,"Trench Box",null,"Cutovers"]
[null,null,null,null,null,null,null,null,null,null,null,null,"Steam","STM","SM",null,"Noise Wall",null,"High Pressure Pipeline",null,"Wood",null,"Culvert Pipe",null,null,null,"Removal of poles/posts",null,"Local Approval and/or Permit for Erosion Control/Land Disturbance",null,"Crane Mats, Plating, or Additional Fill to Decrease Loading on Utility Facility",null,"Re-lashing"]
[null,null,null,null,null,null,null,null,null,null,null,null,"Water","WATR","W",null,"Grading",null,"Low Pressure Pipeline",null,"Laminate",null,"Rough Grading",null,null,null,"Removal of trees",null,"Shoreland Zoning Approval",null,"Maintaining Minimum Cover Over Utility Facilities During Highway Construction",null,"Start-up or Testing"]
[null,null,null,null,null,null,null,null,null,null,null,null,null,null,null,null,"Excavation Below Subgrade (EBS)",null,"Casing",null,"Ductile Iron",null,"Rough Subgrade",null,null,null,"Grading",null,"Railroad Approval and/or Permit for Utility Work",null,"Casing or Split Duct",null,"Discontinuing"]
[null,null,null,null,null,null,null,null,null,null,null,null,null,null,null,null,"Ditch Grading",null,"Cathodic Protection",null,"Cast Iron",null,"Curb and Gutter",null,null,null,"Removal of pavements",null,"Metropolitan Sewerage District Connection Approval and/or Permit",null,"Concrete or Slurry Cap and/or Encasement",null,"Removal"]
[null,null,null,null,null,null,null,null,null,null,null,null,null,null,null,null,"Temporary Roadway or Crossover",null,"Valve",null,"Lead",null,"Pavement Lower Layer(s)",null,null,null,"Installation of structures",null,"Federal Aviation Administration Easement and/or Permit",null,"Coordinating Pavement Rubbilizing, Breaking, or Pulverizing",null,"Temp-Installation"]
[null,null,null,null,null,null,null,null,null,null,null,null,null,null,null,null,"Storm Sewer",null,"Thrust Block",null,"Vitrified Clay Pipe",null,"Sidewalk",null,null,null,"Installation of drainage facilities",null,"Bureau of Indian Affairs Easement and/or Permit",null,"On-Site Inspectors, Certified Staff, or Spotters",null,"Temp-Removal"]
[null,null,null,null,null,null,null,null,null,null,null,null,null,null,null,null,"Culvert Pipe",null,"Manhole",null,"Brick",null,"Structure",null,null,null,"Installation of pavement",null,"Tribal Easement and/or Permit",null,"Other - Describe in Narrative",null,"Temp-Service"]
[null,null,null,null,null,null,null,null,null,null,null,null,null,null,null,null,"Temporary Diversion Channel",null,"Air Release",null,"Concrete",null,"Topsoil",null,null,null,"Installation of electrical and ancillary items",null,"Wisconsin Public Service Commission Approval"]
[null,null,null,null,null,null,null,null,null,null,null,null,null,null,null,null,"Riprap",null,"Vent",null,"Reinforced Concrete",null,"Other - Describe in Narrative",null,null,null,"Other - describe in NARRATIVE",null,"Other - Describe in Narrative"]
[null,null,null,null,null,null,null,null,null,null,null,null,null,null,null,null,"Pavement",null,"Hydrant",null,"Precast Concrete"]
[null,null,null,null,null,null,null,null,null,null,null,null,null,null,null,null,"Curb & Gutter",null,"Tower - Transmission",null,"Styrofoam"]
[null,null,null,null,null,null,null,null,null,null,null,null,null,null,null,null,"Driveway",null,"Pole - Transmission",null,"Flowable Fill"]
[null,null,null,null,null,null,null,null,null,null,null,null,null,null,null,null,"Sidewalk or Sidewalk Ramp",null,"Pole - Distribution",null,"Specialized Backfill"]
[null,null,null,null,null,null,null,null,null,null,null,null,null,null,null,null,"Temporary Sidewalk",null,"Pole - Service",null,"Other - Describe in Narrative"]
[null,null,null,null,null,null,null,null,null,null,null,null,null,null,null,null,"Guardrail",null,"Pole - Guy"]
[null,null,null,null,null,null,null,null,null,null,null,null,null,null,null,null,"Cable Guard",null,"Guy Wire / Anchor"]
[null,null,null,null,null,null,null,null,null,null,null,null,null,null,null,null,"Concrete Barrier",null,"Conductor"]
[null,null,null,null,null,null,null,null,null,null,null,null,null,null,null,null,"Traffic Signal",null,"Transformer"]
[null,null,null,null,null,null,null,null,null,null,null,null,null,null,null,null,"Temporary Traffic Signal",null,"Conduit Package"]
[null,null,null,null,null,null,null,null,null,null,null,null,null,null,null,null,"Street Lighting",null,"Conduit - Empty"]
[null,null,null,null,null,null,null,null,null,null,null,null,null,null,null,null,"Sign Structures",null,"Cable"]
[null,null,null,null,null,null,null,null,null,null,null,null,null,null,null,null,"Fence",null,"Cabinet"]
[null,null,null,null,null,null,null,null,null,null,null,null,null,null,null,null,"WisDOT Roadway Facility",null,"Pedestal"]
[null,null,null,null,null,null,null,null,null,null,null,null,null,null,null,null,"New Utility Facility Installation",null,"Handhole / Pull Box"]
[null,null,null,null,null,null,null,null,null,null,null,null,null,null,null,null,"Accommodate Work by Another Utility",null,"Vault"]
[null,null,null,null,null,null,null,null,null,null,null,null,null,null,null,null,"Other - Describe in Narrative",null,"Service"]
[null,null,null,null,null,null,null,null,null,null,null,null,null,null,null,null,null,null,"Small Cell"]
[null,null,null,null,null,null,null,null,null,null,null,null,null,null,null,null,null,null,"Fence Grounding"]
[null,null,null,null,null,null,null,null,null,null,null,null,null,null,null,null,null,null,"Substation"]
[null,null,null,null,null,null,null,null,null,null,null,null,null,null,null,null,null,null,"Substation Grounding Grid"]
[null,null,null,null,null,null,null,null,null,null,null,null,null,null,null,null,null,null,"Pumping Station"]
[null,null,null,null,null,null,null,null,null,null,null,null,null,null,null,null,null,null,"Lift Station"]
[null,null,null,null,null,null,null,null,null,null,null,null,null,null,null,null,null,null,"Pressure Regulating / Booster Station"]
[null,null,null,null,null,null,null,null,null,null,null,null,null,null,null,null,null,null,"Meter / Monitoring Device"]
[null,null,null,null,null,null,null,null,null,null,null,null,null,null,null,null,null,null,"Other - Describe in Narrative"]

{"sheet":"Utility Worksheet Info","index":3,"n_rows":22,"n_cols":14,"rows_kept":22,"cut":false,"hidden":false,"merged":[[3,1,3,6],[1,1,1,13],[18,9,20,9],[13,2,13,6],[14,2,14,6],[4,2,4,6],[5,2,5,6],[6,2,6,6],[7,2,7,6],[11,2,11,6],[12,2,12,6],[18,1,20,1],[18,10,20,10],[18,11,20,11],[18,12,20,12],[18,13,20,13],[19,3,20,3],[19,4,19,5],[19,6,20,6],[19,7,19,8],[18,2,20,2],[18,3,18,5],[18,6,18,8]]}
[]
[null,"UTILITY WORKSHEET INFORMATION"]
[]
[null,"PROJECT DESCRIPTION",null,null,null,null,null,null,null,"PROJECT IDS",null,"THINGS OF NOTE"]
[null,"TITLE:",null,null,null,null,null,null,null,"DESIGN:"]
[null,"LIMITS:",null,null,null,null,null,null,null,"CONSTRUCTION:"]
[null,"HIGHWAY:",null,null,null,null,null,null,null,"RIGHT OF WAY:"]
[null,"COUNTY:",null,null,null,null,null,null,null,"UTL NO:"]
[]
[]
[null,"COORDINATOR INFORMATION",null,null,null,null,null,null,null,"DATES & VERSION"]
[null,"NAME:",null,null,null,null,null,null,null,"TRANSMITTAL:"]
[null,"ADDRESS:",null,null,null,null,null,null,null,"WORK PLAN DUE:"]
[null,"PHONE:",null,null,null,null,null,null,null,"UCM DUE:"]
[null,"E-MAIL:",null,null,null,null,null,null,null,"PLAN VERSION:"]
[]
[]
[null,"ANTICIPATED CONFLICTS"]
[null,"UTILITY ABBR","ALIGNMENT","START",null,null,"END",null,null,"OH/UG","FACILITY SIZE","FACILITY COMPONENT","FACILITY MATERIAL","IN POTENTIAL CONFLICT WITH"]
[null,null,null,"STATION","OFFSET",null,"STATION","OFFSET"]
[null,null,null,null,"DIST","LOC",null,"DIST","LOC"]
[null,"UTILITY ENTITY","ALIGNMENT","START STATION","START DIST","START LOC","END STATION","END DIST","END LOC","FACILITY CATEGORY","FACILITY SIZE","FACILITY COMPONENT","FACILITY MATERIAL","IN ANTICIPATED CONFLICT WITH"]

{"sheet":"Main Form","index":4,"n_rows":5,"n_cols":25,"rows_kept":5,"cut":false,"hidden":false,"merged":[[1,1,1,24]]}
[]
[null,"MAIN FORM"]
[]
[null,"RETURNED INFORMATION"]
[null,"UTILITY ENTITY","PREPARER NAME","PREPARER ADDRESS","PREPARER NUMBER","PREPARER E-MAIL","FIELD CONTACT NAME","FIELD CONTACT ADDRESS","FIELD CONTACT NUMBER","FIELD CONTACT EMAIL","QUESTION 1","QUESTION 2","QUESTION 3","QUESTION 4","QUESTION 5","QUESTION 6","QUESTION 7","QUESTION 8","QUESTION 9","QUESTION 10","QUESTION 11","QUESTION 12","MARKED UP COPY OF PROJECT PLAN","SKETCHES & XYZ DAYA","ELECTRONIC DESIGN FILE"]

{"sheet":"A-3","index":5,"n_rows":5,"n_cols":6,"rows_kept":5,"cut":false,"hidden":false,"merged":[[1,1,1,17]]}
[]
[null,"ATTACHMENT 3 - EXISTING KNOWN DISCONTINUED FACILITIES"]
[]
[null,"RETURNED INFORMATION"]
[null,"UTILITY ENTITY","QUESTION 1","QUESTION 2","QUESTION 3","QUESTION 4"]

{"sheet":"A-5","index":6,"n_rows":14,"n_cols":42,"rows_kept":14,"cut":false,"hidden":false,"merged":[[6,1,6,4],[11,18,12,18],[11,19,12,19],[11,20,12,20],[7,1,7,4],[11,10,11,11],[11,12,12,12],[11,16,11,17],[10,12,10,14],[10,15,10,17],[11,13,11,14],[11,15,12,15],[9,18,10,19],[9,12,9,17],[11,6,12,6],[9,1,12,1],[1,1,1,17],[1,18,1,32],[3,1,3,4],[4,1,4,4],[5,1,5,4],[9,20,10,21],[9,22,10,23],[11,22,12,22],[11,23,12,23],[11,21,12,21],[9,31,12,31],[9,32,12,32],[9,33,9,35],[10,34,10,35],[11,33,12,33],[11,34,12,34],[11,35,12,35],[9,30,12,30],[9,26,12,26],[9,28,12,28],[9,29,12,29],[11,24,12,24],[11,25,12,25],[9,27,12,27],[9,24,10,25],[9,2,12,2],[9,3,12,3],[9,5,12,5],[9,6,9,11],[10,6,10,8],[10,9,10,11],[11,7,11,8],[11,9,12,9],[9,4,12,4],[1,33,1,41],[9,39,12,39],[9,40,12,40],[9,36,12,36],[9,37,12,37],[9,41,12,41],[9,38,12,38]]}
[]
[null,"ATTACHMENT 5 - IDENTIFIED CONFLICTS"]
[]
[null,"Attachment 5A"]
[null,"Attachment 5D"]
[null,"Attachment 5P"]
[null,"Attachment 5R"]
[null,"Attachment 5T"]
[]
[null,"CONFLICT ID","UTILITY ENTITY","ATTACH-MENT","ADDITIONAL FORMAT","ALIGNMENT","EXISTING",null,null,null,null,null,"PROPOSED",null,null,null,null,null,"OH/UG",null,"FACILITY SIZE",null,"FACILITY COMPONENT",null,"FACILITY MATERIAL",null,"CONFLICT / REASON FOR WORK","INSTALL / REMOVE","UTILITY WORK PERFORMED","DISCONTINUED OR REMOVED","CONFLICTING PORTION(S) REMOVED BY","PROTECTION TYPE","TEMPORARY EASEMENTS, PERMISSIONS, ACCESS","ANTICIPATED START DATE",null,null,"WORKING DAYS TO PERFORM","SPECS FOR CONTRACT DOCS","COORDINATION OF SHARED UTILITY SPACE","PROVIDER OR PARTICIPANT","NARRATIVE","WHEN RESOLVED"]
[null,null,null,null,null,null,"START",null,null,"END",null,null,"START",null,null,"END",null,null,null,null,null,null,null,null,null,null,null,null,null,null,null,null,null,"PRIOR TO CONST.","DURING CONSTRUCTION"]
[null,null,null,null,null,null,"STATION","OFFSET",null,"STATION","OFFSET",null,"STATION","OFFSET",null,"STATION","OFFSET",null,"EX","PR","EX","PR","EX","PR","EX","PR",null,null,null,null,null,null,null,"CALENDAR DATE","PROJECT STAGE","HIGHWAY CONTRACT WORK COMPLETED"]
[null,null,null,null,null,null,null,"DIST","LOC",null,"DIST","LOC",null,"DIST","LOC",null,"DIST","LOC"]
[null,"CONFLICT ID","UTILITY ENTITY","ATTACHMENT","ADDITIONAL FORMAT","ALIGNMENT","EX START STA","EX START DIST","EX START LOC","EX END STA","EX END DIST","EX END LOC","PR START STA","PR START DIST","PR START LOC","PR END STA","PR END DIST","PR END LOC","EX FAC CATEGORY","PR FAC CATEGORY","EX FAC TYPE","PR FAC TYPE","EX FAC COMP","PR FAC COMP","EX FAC MAT","PR FAC MAT","CONFLICT / REASON FOR WORK","INSTALL/REMOVE","UTILITY WORK PERFORMED","DISCONTINUED OR REMOVED","PARTY RESPONSIBLE FOR REMOVAL","PROTECTION TYPE","TEMPORARY EASEMENTS, PERMISSIONS, ACCESS","CALENDAR DATE","PROJECT STAGE","HIGHWAY CONTRACT WORK COMPLETED","WORKING DAYS TO PERFORM","SPECS FOR CONTRACT DOCS","COORDINATE WITH OTHER UTILITIES","PROVIDER OR PARTICIPANT","NARRATIVE","WHEN RESOLVED"]

{"sheet":"A-5Q","index":7,"n_rows":5,"n_cols":33,"rows_kept":5,"cut":false,"hidden":false,"merged":[[1,1,1,32]]}
[]
[null,"ATTACHMENT 5 - QUESTIONS"]
[]
[null,"5A - RETURNED INFORMATION",null,null,null,null,null,"5D - RETURNED INFORMATION",null,null,null,null,null,null,null,"5P - RETURNED INFORMATION",null,null,null,null,null,"5R - RETURNED INFORMATION",null,null,null,null,null,"5T - RETURNED INFORMATION"]
[null,"UTILITY ENTITY","QUESTION 1","QUESTION 2","QUESTION 3","QUESTION 4",null,"UTILITY ENTITY","QUESTION 1","QUESTION 2","QUESTION 3","QUESTION 4","QUESTION 5","QUESTION 6",null,"UTILITY ENTITY","QUESTION 1","QUESTION 2","QUESTION 3","QUESTION 4",null,"UTILITY ENTITY","QUESTION 1","QUESTION 2","QUESTION 3","QUESTION 4",null,"UTILITY ENTITY","QUESTION 1","QUESTION 2","QUESTION 3","QUESTION 4","QUESTION 5"]

{"sheet":"A-6E","index":8,"n_rows":5,"n_cols":12,"rows_kept":5,"cut":false,"hidden":false,"merged":[[1,1,1,19],[1,20,1,22]]}
[]
[null,"ATTACHMENT 6E - EXISTING SERVICE WORK REQUIRED"]
[]
[null,"RETURNED INFORMATION"]
[null,"UTILITY ENTITY","QUESTION 1","QUESTION 2","QUESTION 3","QUESTION 4","QUESTION 5","QUESTION 6","QUESTION 7","QUESTION 8","QUESTION 9","QUESTION 10"]

{"sheet":"A-6N","index":9,"n_rows":7,"n_cols":27,"rows_kept":7,"cut":false,"hidden":false,"merged":[[1,17,1,26],[3,18,5,18],[3,19,5,19],[4,3,5,3],[4,4,4,5],[4,6,5,6],[4,7,4,8],[4,14,4,15],[3,17,5,17],[3,21,5,21],[3,22,5,22],[3,10,5,10],[3,11,5,11],[3,12,5,12],[3,13,3,15],[3,16,5,16],[1,1,1,16],[3,3,3,5],[3,6,3,8],[3,9,5,9],[3,2,5,2],[3,24,5,24],[3,25,5,25],[3,23,5,23],[3,26,5,26],[3,1,5,1]]}
[]
[null,"ATTACHMENT 6 - NEW SERVICE WORK REQUIRED"]
[null,null,null,null,null,null,null,null,null,null,null,null,null,null,null,null,null,null,null,null,null,"RETURNED INFORMATION"]
[null,"UTILITY ENTITY","ALIGNMENT","START",null,null,"END",null,null,"OH/UG","FACILITY SIZE","FACILITY COMPONENT","FACILITY MATERIAL","ANTICIPATED START DATE",null,null,"WORKING DAYS TO PERFORM","COORDINATION OF SHARED UTILITY SPACE","PROVIDER OR PARTICIPANT","NARRATIVE",null,"UTILITY ENTITY","QUESTION 1","QUESTION 2","QUESTION 3","QUESTION 4","QUESTION 5"]
[null,null,null,"STATION","OFFSET",null,"STATION","OFFSET",null,null,null,null,null,"PRIOR TO CONST.","DURING CONSTRUCTION"]
[null,null,null,null,"DIST","LOC",null,"DIST","LOC",null,null,null,null,"CALENDAR DATE","PROJECT STAGE","HIGHWAY CONTRACT WORK COMPLETED"]
[null,"UTILITY ENTITY","ALIGNMENT","START STA","START DIST","START LOC","END STA","END DIST","END LOC","FACILITY CATEGORY","FACILITY SIZE","FACILITY COMPONENT","FACILITY MATERIAL","CALENDAR DATE","PROJECT STAGE","HIGHWAY CONTRACT WORK COMPLETED","WORKING DAYS TO PERFORM","COORDINATE WITH OTHER UTILITIES","PROVIDER OR PARTICIPANT","NARRATIVE",null,"UTILITY ENTITY","QUESTION 1","QUESTION 2","QUESTION 3","QUESTION 4","QUESTION 5"]

{"sheet":"A-7PR","index":10,"n_rows":2,"n_cols":2,"rows_kept":2,"cut":false,"hidden":false,"merged":[[1,1,1,17],[1,18,1,25]]}
["X"]
[null,"ATTACHMENT 7 - PROVIDER JOINT USE COORDINATION"]

{"sheet":"A-7PT","index":11,"n_rows":7,"n_cols":23,"rows_kept":7,"cut":false,"hidden":false,"merged":[[1,1,1,14],[1,15,1,22],[3,1,5,1],[3,20,5,20],[3,21,5,21],[3,22,5,22],[4,4,5,4],[4,5,4,6],[4,7,5,7],[4,8,4,9],[4,16,4,17],[3,13,5,13],[3,14,5,14],[3,15,3,17],[3,18,5,18],[3,19,5,19],[3,11,5,11],[3,12,5,12],[3,2,5,2],[3,3,5,3],[3,4,3,6],[3,7,3,9],[3,10,5,10]]}
[]
[null,"ATTACHMENT 7 - PARTICIPANT JOINT USE COORDINATION"]
[]
[null,"UTILITY ENTITY","COORDINATING ENTITY","ALIGNMENT","START",null,null,"END",null,null,"OH/UG","FACILITY SIZE","FACILITY COMPONENT","FACILITY MATERIAL","UTILITY WORK PERFORMED","ANTICIPATED START DATE",null,null,"WORKING DAYS TO PERFORM","WORK PERFORMED BY","NOTES FOR UCM","CONTACT INFO","NARRATIVE"]
[null,null,null,null,"STATION","OFFSET",null,"STATION","OFFSET",null,null,null,null,null,null,"PRIOR TO CONST.","DURING CONSTRUCITON"]
[null,null,null,null,null,"DIST","LOC",null,"DIST","LOC",null,null,null,null,null,"CALENDAR DATE","PROJECT STAGE","HIGHWAY CONTRACT WORK COMPLETED"]
[null,"UTILITY ENTITY","COORDINATING ENTITY","ALIGNMENT","START STATION","START DIST","START LOC","END STATION","END DIST","END LOC","OH/UG","FACILITY SIZE","FACILITY COMPONENT","FACILITY MATERIAL","UTILITY WORK PERFORMED","CALENDAR DATE","PROJECT STAGE","HIGHWAY CONTRACT WORK COMPLETED","WORKING DAYS TO PERFORM","WORK PERFORMED BY","NOTES FOR UCM","CONTACT INFO","NARRATIVE"]

{"sheet":"A-8","index":12,"n_rows":6,"n_cols":8,"rows_kept":6,"cut":false,"hidden":false,"merged":[[1,1,1,17],[3,2,4,2],[3,3,4,3],[3,4,3,6],[3,7,4,7],[3,1,4,1]]}
[]
[null,"ATTACHMENT 8 - APPROVALS REQUIRED AND SCHEDULE TO OBTAIN APPROVALS"]
[]
[null,"UTILITY ENTITY","PERMIT","NAME OF APPROVING AUTHORITY","ANTICIPATED SCHEDULE",null,null,"NARRATIVE"]
[null,null,null,null,"APPROVAL PRECEDES*","SUBMITTAL DATE","APPROVAL DATE"]
[null,"UTILITY ENTITY","PERMIT","NAME OF APPROVING AUTHORITY","APPROVAL PRECEDES*","SUBMITTAL DATE","APPROVAL DATE","NARRATIVE"]

{"sheet":"A-9","index":13,"n_rows":8,"n_cols":10,"rows_kept":8,"cut":false,"hidden":false,"merged":[[1,1,1,16],[3,5,3,8],[3,9,6,9],[4,5,6,5],[4,6,4,8],[5,7,5,8],[3,1,6,1],[3,2,6,2],[3,3,6,3],[3,4,6,4]]}
[]
[null,"ATTACHMENT 9 - REAL ESTATE PARCELS REQUIRED"]
[]
[null,"UTILITY ENTITY","RIGHT OF WAY PLAT ID","PLAT / EXHIBIT APPROVAL OR LATEST REVISION DATE","PARCEL NUMBER","REMOVAL OR INSTALLATION",null,null,null,"NARRATIVE"]
[null,null,null,null,null,"ITEM","ANTICIPATED START DATE"]
[null,null,null,null,null,null,"PRIOR TO CONST.","DURING CONSTRUCTION"]
[null,null,null,null,null,null,"CALENDAR DATE","PROJECT STAGE","HIGHWAY CONTRACT WORK COMPLETED"]
[null,"UTILITY ENTITY","RIGHT OF WAY PLAT ID","LATEST PLAT REVISION DATE","PARCEL NUMBER","ITEM","CALENDAR DATE","PROJECT STAGE","HIGHWAY CONTRACT WORK COMPLETED","NARRATIVE"]

{"sheet":"A-10","index":14,"n_rows":8,"n_cols":14,"rows_kept":8,"cut":false,"hidden":false,"merged":[[4,9,6,9],[3,3,3,9],[1,1,1,18],[3,11,6,11],[3,12,6,12],[3,13,6,13],[3,1,6,1],[3,2,6,2],[3,10,6,10],[4,3,6,3],[4,4,4,8],[5,4,6,4],[5,5,5,6],[5,7,5,8]]}
[]
[null,"ATTACHMENT 10 - EASEMENTS, FEE TITLE, AND/OR LONG TERM LEASE NEEDS"]
[]
[null,"UTILITY ENTITY","LAND INTEREST REQUIRED","LOCATION",null,null,null,null,null,null,"APPROXIMATE WIDTH","ANTICIPATED ACQUISITION DATE","REASON FOR ACQUISITION","NARRATIVE"]
[null,null,null,"BY PARCEL NUMBER","BY STATIONING",null,null,null,null,"BY ADDRESS"]
[null,null,null,null,"ACQUISITION ALIGNMENT","APPROXIMATE START",null,"APPROXIMATE END"]
[null,null,null,null,null,"STATION","LOC","STATION","LOC"]
[null,"UTILITY ENTITY","LAND INTEREST REQUIRED","RELATED PARCEL NUMBER (if applicable)","ACQUISITION ALIGNMENT","START STATION","START LOC","END STATION","END LOC","Column1","APPROXIMATE WIDTH","ANTICIPATED ACQUISITION DATE","REASON FOR ACQUISITION","NARRATIVE"]

{"sheet":"Utility Impact Sheet Info","index":15,"n_rows":5,"n_cols":5,"rows_kept":5,"cut":false,"hidden":false,"merged":[[1,1,1,4]]}
[]
[null,"UTILITY IMPACTS SHEET INFORMATION"]
[]
[null,"UTILITY IMPACTS PLAN SHEET CONTROL"]
[null,"UTILITY IMPACT PLAN SHEET #","ALIGNMENT","MATCHLINE START STATION","MATCHLINE END STATION"]

{"sheet":"Utility Impact Sheet Table","index":16,"n_rows":3,"n_cols":18,"rows_kept":3,"cut":false,"hidden":false,"merged":[[1,11,1,12],[1,13,2,13],[1,14,2,14],[1,15,2,15],[0,0,0,9],[0,10,0,16],[0,17,2,17],[1,0,2,0],[1,1,2,1],[1,2,2,2],[1,3,2,3],[1,4,2,4],[1,5,2,5],[1,6,2,6],[1,7,1,8],[1,9,2,9],[1,16,2,16],[1,10,2,10]]}
["EXISTING UTILITY FACILITIES",null,null,null,null,null,null,null,null,null,"DURING CONSTRUCTION RESOLUTION",null,null,null,null,null,null,"ADD. INFO."]
["UTILITY IMPACT SHEET","UTILITY IMPACT ID","UTILITY TYPE","OH/UG","FACILITY COMPONENT","FACILITY SIZE","ALG","STATION / OFFSET",null,"IN CONFLICT WITH","UTILITY WORK PERFORMED","STATION / OFFSET",null,"DISCON. OR REM. (D/R)","PROJ. STAGE","HIGHWAY CONTRACT WORK COMPLETED","WORKING DAYS TO PERFORM"]
[null,null,null,null,null,null,null,"START","END",null,null,"START","END"]

{"sheet":"Plansheet Template","index":17,"n_rows":3,"n_cols":18,"rows_kept":3,"cut":false,"hidden":true,"merged":[[0,0,0,9],[0,10,0,16],[0,17,2,17],[1,0,2,0],[1,1,2,1],[1,2,2,2],[1,4,2,4],[1,5,2,5],[1,6,2,6],[1,3,2,3],[1,14,2,14],[1,16,2,16],[1,7,1,8],[1,9,2,9],[1,10,2,10],[1,11,1,12],[1,13,2,13],[1,15,2,15]]}
["EXISTING UTILITY FACILITIES",null,null,null,null,null,null,null,null,null,"DURING CONSTRUCTION RESOLUTION",null,null,null,null,null,null,"ADD. INFO."]
["UTILITY IMPACT SHEET","UTILITY IMPACT ID","UTILITY TYPE","OH/UG","FACILITY COMPONENT","FACILITY SIZE","ALG","STATION / OFFSET",null,"IN CONFLICT WITH","UTILITY WORK PERFORMED","STATION / OFFSET",null,"DISCON. OR REM. (D/R)","PROJ. STAGE","HIGHWAY CONTRACT WORK COMPLETED","WORKING DAYS TO PERFORM"]
[null,null,null,null,null,null,null,"START","END",null,null,"START","END"]

{"sheet":"Gantt_PC","index":18,"n_rows":11,"n_cols":833,"rows_kept":11,"cut":false,"hidden":false,"merged":[[5,1,5,3],[2,1,2,2]]}
[]
[]
[null,"CONSTRUCTION START:",null,{"$f":"Dashboard!K20","v":"00:00:00"}]
[]
[]
[null,"PRIOR TO CONSTRUCTION",null,null,null,{"$f":"IF(AND(E7<=$D$3,F7>$D$3),\"*\",\"\")","v":"*"},"","","","","","","","","","","","","","","","","","","","","","","","","","","","","","","","","","","","","","","","","","","","","","","","","","","","","","","","","","","","","","","",{"$f":"IF(AND(BQ7<=$D$3,BR7>$D$3),\"*\",\"\")","v":""},"","","","","","","","","","","","","","","","","","","","","","","","","","","","","","","","","","","","","","","","","","","","","","","","","","","","","","","","","","","","","","","",{"$f":"IF(AND(EC7<=$D$3,ED7>$D$3),\"*\",\"\")","v":""},"","","","","","","","","","","","","","","","","","","","","","","","","","","","","","","","","","","","","","","","","","","","","","","","","","","","","","","","","","","","","","","",{"$f":"IF(AND(GO7<=$D$3,GP7>$D$3),\"*\",\"\")","v":""},"","","","","","","","","","","","","","","","","","","","","","","","","","","","","","","","","","","","","","","","","","","","","","","","","","","","","","","","","","","","","","","",{"$f":"IF(AND(JA7<=$D$3,JB7>$D$3),\"*\",\"\")","v":""},"","","","","","","","","","","","","","","","","","","","","","","","","","","","","","","","","","","","","","","","","","","","","","","","","","","","","","","","","","","","","","","",{"$f":"IF(AND(LM7<=$D$3,LN7>$D$3),\"*\",\"\")","v":""},"","","","","","","","","","","","","","","","","","","","","","","","","","","","","","","","","","","","","","","","","","","","","","","","","","","","","","","","","","","","","","","",{"$f":"IF(AND(NY7<=$D$3,NZ7>$D$3),\"*\",\"\")","v":""},"","","","","","","","","","","","","","","","","","","","","","","","","","","","","","","","","","","","","","","","","","","","","","","","","","","","","","","","","","","","","","","",{"$f":"IF(AND(QK7<=$D$3,QL7>$D$3),\"*\",\"\")","v":""},"","","","","","","","","","","","","","","","","","","","","","","","","","","","","","","","","","","","","","","","","","","","","","","","","","","","","","","","","","","","","","","",{"$f":"IF(AND(SW7<=$D$3,SX7>$D$3),\"*\",\"\")","v":""},"","","","","","","","","","","","","","","","","","","","","","","","","","","","","","","","","","","","","","","","","","","","","","","","","","","","","","","","","","","","","","","",{"$f":"IF(AND(VI7<=$D$3,VJ7>$D$3),\"*\",\"\")","v":""},"","","","","","","","","","","","","","","","","","","","","","","","","","","","","","","","","","","","","","","","","","","","","","","","","","","","","","","","","","","","","","","",{"$f":"IF(AND(XU7<=$D$3,XV7>$D$3),\"*\",\"\")","v":""},"","","","","","","","","","","","","","","","","","","","","","","","","","","","","","","","","","","","","","","","","","","","","","","","","","","","","","","","","","","","","","","",{"$f":"IF(AND(AAG7<=$D$3,AAH7>$D$3),\"*\",\"\")","v":""},"","","","","","","","","","","","","","","","","","","","","","","","","","","","","","","","","","","","","","","","","","","","","","","","","","","","","","","","","","","","","","","",{"$f":"IF(AND(ACS7<=$D$3,ACT7>$D$3),\"*\",\"\")","v":""},"","","","","","","","","","","","","","","","","","","","","","","","","","","","","","","","","","","","","","","","","","","","","","","","","","","","","","","","","","",""]
[null,"UTILITY IMPACT ID","CALENDAR DATE","WORKING DAYS",{"$f":"C8","v":"00:00:00"},{"$f":"E7+7","v":"1900-01-07"},{"$f":"F7+7","v":"1900-01-14"},"1900-01-21","1900-01-28","1900-02-04","1900-02-11","1900-02-18","1900-02-25","1900-03-03","1900-03-10","1900-03-17","1900-03-24","1900-03-31","1900-04-07","1900-04-14","1900-04-21","1900-04-28","1900-05-05","1900-05-12","1900-05-19","1900-05-26","1900-06-02","1900-06-09","1900-06-16","1900-06-23","1900-06-30","1900-07-07","1900-07-14","1900-07-21","1900-07-28","1900-08-04","1900-08-11","1900-08-18","1900-08-25","1900-09-01","1900-09-08","1900-09-15","1900-09-22","1900-09-29","1900-10-06","1900-10-13","1900-10-20","1900-10-27","1900-11-03","1900-11-10","1900-11-17","1900-11-24","1900-12-01","1900-12-08","1900-12-15","1900-12-22","1900-12-29","1901-01-05","1901-01-12","1901-01-19","1901-01-26","1901-02-02","1901-02-09","1901-02-16","1901-02-23","1901-03-02","1901-03-09","1901-03-16","1901-03-23","1901-03-30",{"$f":"BR7+7","v":"1901-04-06"},"1901-04-13","1901-04-20","1901-04-27","1901-05-04","1901-05-11","1901-05-18","1901-05-25","1901-06-01","1901-06-08","1901-06-15","1901-06-22","1901-06-29","1901-07-06","1901-07-13","1901-07-20","1901-07-27","1901-08-03","1901-08-10","1901-08-17","1901-08-24","1901-08-31","1901-09-07","1901-09-14","1901-09-21","1901-09-28","1901-10-05","1901-10-12","1901-10-19","1901-10-26","1901-11-02","1901-11-09","1901-11-16","1901-11-23","1901-11-30","1901-12-07","1901-12-14","1901-12-21","1901-12-28","1902-01-04","1902-01-11","1902-01-18","1902-01-25","1902-02-01","1902-02-08","1902-02-15","1902-02-22","1902-03-01","1902-03-08","1902-03-15","1902-03-22","1902-03-29","1902-04-05","1902-04-12","1902-04-19","1902-04-26","1902-05-03","1902-05-10","1902-05-17","1902-05-24","1902-05-31","1902-06-07","1902-06-14","1902-06-21",{"$f":"ED7+7","v":"1902-06-28"},"1902-07-05","1902-07-12","1902-07-19","1902-07-26","1902-08-02","1902-08-09","1902-08-16","1902-08-23","1902-08-30","1902-09-06","1902-09-13","1902-09-20","1902-09-27","1902-10-04","1902-10-11","1902-10-18","1902-10-25","1902-11-01","1902-11-08","1902-11-15","1902-11-22","1902-11-29","1902-12-06","1902-12-13","1902-12-20","1902-12-27","1903-01-03","1903-01-10","1903-01-17","1903-01-24","1903-01-31","1903-02-07","1903-02-14","1903-02-21","1903-02-28","1903-03-07","1903-03-14","1903-03-21","1903-03-28","1903-04-04","1903-04-11","1903-04-18","1903-04-25","1903-05-02","1903-05-09","1903-05-16","1903-05-23","1903-05-30","1903-06-06","1903-06-13","1903-06-20","1903-06-27","1903-07-04","1903-07-11","1903-07-18","1903-07-25","1903-08-01","1903-08-08","1903-08-15","1903-08-22","1903-08-29","1903-09-05","1903-09-12",{"$f":"GP7+7","v":"1903-09-19"},"1903-09-26","1903-10-03","1903-10-10","1903-10-17","1903-10-24","1903-10-31","1903-11-07","1903-11-14","1903-11-21","1903-11-28","1903-12-05","1903-12-12","1903-12-19","1903-12-26","1904-01-02","1904-01-09","1904-01-16","1904-01-23","1904-01-30","1904-02-06","1904-02-13","1904-02-20","1904-02-27","1904-03-05","1904-03-12","1904-03-19","1904-03-26","1904-04-02","1904-04-09","1904-04-16","1904-04-23","1904-04-30","1904-05-07","1904-05-14","1904-05-21","1904-05-28","1904-06-04","1904-06-11","1904-06-18","1904-06-25","1904-07-02","1904-07-09","1904-07-16","1904-07-23","1904-07-30","1904-08-06","1904-08-13","1904-08-20","1904-08-27","1904-09-03","1904-09-10","1904-09-17","1904-09-24","1904-10-01","1904-10-08","1904-10-15","1904-10-22","1904-10-29","1904-11-05","1904-11-12","1904-11-19","1904-11-26","1904-12-03",{"$f":"JB7+7","v":"1904-12-10"},"1904-12-17","1904-12-24","1904-12-31","1905-01-07","1905-01-14","1905-01-21","1905-01-28","1905-02-04","1905-02-11","1905-02-18","1905-02-25","1905-03-04","1905-03-11","1905-03-18","1905-03-25","1905-04-01","1905-04-08","1905-04-15","1905-04-22","1905-04-29","1905-05-06","1905-05-13","1905-05-20","1905-05-27","1905-06-03","1905-06-10","1905-06-17","1905-06-24","1905-07-01","1905-07-08","1905-07-15","1905-07-22","1905-07-29","1905-08-05","1905-08-12","1905-08-19","1905-08-26","1905-09-02","1905-09-09","1905-09-16","1905-09-23","1905-09-30","1905-10-07","1905-10-14","1905-10-21","1905-10-28","1905-11-04","1905-11-11","1905-11-18","1905-11-25","1905-12-02","1905-12-09","1905-12-16","1905-12-23","1905-12-30","1906-01-06","1906-01-13","1906-01-20","1906-01-27","1906-02-03","1906-02-10","1906-02-17","1906-02-24",{"$f":"LN7+7","v":"1906-03-03"},"1906-03-10","1906-03-17","1906-03-24","1906-03-31","1906-04-07","1906-04-14","1906-04-21","1906-04-28","1906-05-05","1906-05-12","1906-05-19","1906-05-26","1906-06-02","1906-06-09","1906-06-16","1906-06-23","1906-06-30","1906-07-07","1906-07-14","1906-07-21","1906-07-28","1906-08-04","1906-08-11","1906-08-18","1906-08-25","1906-09-01","1906-09-08","1906-09-15","1906-09-22","1906-09-29","1906-10-06","1906-10-13","1906-10-20","1906-10-27","1906-11-03","1906-11-10","1906-11-17","1906-11-24","1906-12-01","1906-12-08","1906-12-15","1906-12-22","1906-12-29","1907-01-05","1907-01-12","1907-01-19","1907-01-26","1907-02-02","1907-02-09","1907-02-16","1907-02-23","1907-03-02","1907-03-09","1907-03-16","1907-03-23","1907-03-30","1907-04-06","1907-04-13","1907-04-20","1907-04-27","1907-05-04","1907-05-11","1907-05-18",{"$f":"NZ7+7","v":"1907-05-25"},"1907-06-01","1907-06-08","1907-06-15","1907-06-22","1907-06-29","1907-07-06","1907-07-13","1907-07-20","1907-07-27","1907-08-03","1907-08-10","1907-08-17","1907-08-24","1907-08-31","1907-09-07","1907-09-14","1907-09-21","1907-09-28","1907-10-05","1907-10-12","1907-10-19","1907-10-26","1907-11-02","1907-11-09","1907-11-16","1907-11-23","1907-11-30","1907-12-07","1907-12-14","1907-12-21","1907-12-28","1908-01-04","1908-01-11","1908-01-18","1908-01-25","1908-02-01","1908-02-08","1908-02-15","1908-02-22","1908-02-29","1908-03-07","1908-03-14","1908-03-21","1908-03-28","1908-04-04","1908-04-11","1908-04-18","1908-04-25","1908-05-02","1908-05-09","1908-05-16","1908-05-23","1908-05-30","1908-06-06","1908-06-13","1908-06-20","1908-06-27","1908-07-04","1908-07-11","1908-07-18","1908-07-25","1908-08-01","1908-08-08",{"$f":"QL7+7","v":"1908-08-15"},"1908-08-22","1908-08-29","1908-09-05","1908-09-12","1908-09-19","1908-09-26","1908-10-03","1908-10-10","1908-10-17","1908-10-24","1908-10-31","1908-11-07","1908-11-14","1908-11-21","1908-11-28","1908-12-05","1908-12-12","1908-12-19","1908-12-26","1909-01-02","1909-01-09","1909-01-16","1909-01-23","1909-01-30","1909-02-06","1909-02-13","1909-02-20","1909-02-27","1909-03-06","1909-03-13","1909-03-20","1909-03-27","1909-04-03","1909-04-10","1909-04-17","1909-04-24","1909-05-01","1909-05-08","1909-05-15","1909-05-22","1909-05-29","1909-06-05","1909-06-12","1909-06-19","1909-06-26","1909-07-03","1909-07-10","1909-07-17","1909-07-24","1909-07-31","1909-08-07","1909-08-14","1909-08-21","1909-08-28","1909-09-04","1909-09-11","1909-09-18","1909-09-25","1909-10-02","1909-10-09","1909-10-16","1909-10-23","1909-10-30",{"$f":"SX7+7","v":"1909-11-06"},"1909-11-13","1909-11-20","1909-11-27","1909-12-04","1909-12-11","1909-12-18","1909-12-25","1910-01-01","1910-01-08","1910-01-15","1910-01-22","1910-01-29","1910-02-05","1910-02-12","1910-02-19","1910-02-26","1910-03-05","1910-03-12","1910-03-19","1910-03-26","1910-04-02","1910-04-09","1910-04-16","1910-04-23","1910-04-30","1910-05-07","1910-05-14","1910-05-21","1910-05-28","1910-06-04","1910-06-11","1910-06-18","1910-06-25","1910-07-02","1910-07-09","1910-07-16","1910-07-23","1910-07-30","1910-08-06","1910-08-13","1910-08-20","1910-08-27","1910-09-03","1910-09-10","1910-09-17","1910-09-24","1910-10-01","1910-10-08","1910-10-15","1910-10-22","1910-10-29","1910-11-05","1910-11-12","1910-11-19","1910-11-26","1910-12-03","1910-12-10","1910-12-17","1910-12-24","1910-12-31","1911-01-07","1911-01-14","1911-01-21",{"$f":"VJ7+7","v":"1911-01-28"},"1911-02-04","1911-02-11","1911-02-18","1911-02-25","1911-03-04","1911-03-11","1911-03-18","1911-03-25","1911-04-01","1911-04-08","1911-04-15","1911-04-22","1911-04-29","1911-05-06","1911-05-13","1911-05-20","1911-05-27","1911-06-03","1911-06-10","1911-06-17","1911-06-24","1911-07-01","1911-07-08","1911-07-15","1911-07-22","1911-07-29","1911-08-05","1911-08-12","1911-08-19","1911-08-26","1911-09-02","1911-09-09","1911-09-16","1911-09-23","1911-09-30","1911-10-07","1911-10-14","1911-10-21","1911-10-28","1911-11-04","1911-11-11","1911-11-18","1911-11-25","1911-12-02","1911-12-09","1911-12-16","1911-12-23","1911-12-30","1912-01-06","1912-01-13","1912-01-20","1912-01-27","1912-02-03","1912-02-10","1912-02-17","1912-02-24","1912-03-02","1912-03-09","1912-03-16","1912-03-23","1912-03-30","1912-04-06","1912-04-13",{"$f":"XV7+7","v":"1912-04-20"},"1912-04-27","1912-05-04","1912-05-11","1912-05-18","1912-05-25","1912-06-01","1912-06-08","1912-06-15","1912-06-22","1912-06-29","1912-07-06","1912-07-13","1912-07-20","1912-07-27","1912-08-03","1912-08-10","1912-08-17","1912-08-24","1912-08-31","1912-09-07","1912-09-14","1912-09-21","1912-09-28","1912-10-05","1912-10-12","1912-10-19","1912-10-26","1912-11-02","1912-11-09","1912-11-16","1912-11-23","1912-11-30","1912-12-07","1912-12-14","1912-12-21","1912-12-28","1913-01-04","1913-01-11","1913-01-18","1913-01-25","1913-02-01","1913-02-08","1913-02-15","1913-02-22","1913-03-01","1913-03-08","1913-03-15","1913-03-22","1913-03-29","1913-04-05","1913-04-12","1913-04-19","1913-04-26","1913-05-03","1913-05-10","1913-05-17","1913-05-24","1913-05-31","1913-06-07","1913-06-14","1913-06-21","1913-06-28","1913-07-05",{"$f":"AAH7+7","v":"1913-07-12"},"1913-07-19","1913-07-26","1913-08-02","1913-08-09","1913-08-16","1913-08-23","1913-08-30","1913-09-06","1913-09-13","1913-09-20","1913-09-27","1913-10-04","1913-10-11","1913-10-18","1913-10-25","1913-11-01","1913-11-08","1913-11-15","1913-11-22","1913-11-29","1913-12-06","1913-12-13","1913-12-20","1913-12-27","1914-01-03","1914-01-10","1914-01-17","1914-01-24","1914-01-31","1914-02-07","1914-02-14","1914-02-21","1914-02-28","1914-03-07","1914-03-14","1914-03-21","1914-03-28","1914-04-04","1914-04-11","1914-04-18","1914-04-25","1914-05-02","1914-05-09","1914-05-16","1914-05-23","1914-05-30","1914-06-06","1914-06-13","1914-06-20","1914-06-27","1914-07-04","1914-07-11","1914-07-18","1914-07-25","1914-08-01","1914-08-08","1914-08-15","1914-08-22","1914-08-29","1914-09-05","1914-09-12","1914-09-19","1914-09-26",{"$f":"ACT7+7","v":"1914-10-03"},"1914-10-10","1914-10-17","1914-10-24","1914-10-31","1914-11-07","1914-11-14","1914-11-21","1914-11-28","1914-12-05","1914-12-12","1914-12-19","1914-12-26","1915-01-02","1915-01-09","1915-01-16","1915-01-23","1915-01-30","1915-02-06","1915-02-13","1915-02-20","1915-02-27","1915-03-06","1915-03-13","1915-03-20","1915-03-27","1915-04-03","1915-04-10","1915-04-17","1915-04-24","1915-05-01","1915-05-08","1915-05-15","1915-05-22","1915-05-29","1915-06-05","1915-06-12","1915-06-19","1915-06-26","1915-07-03","1915-07-10","1915-07-17","1915-07-24","1915-07-31","1915-08-07","1915-08-14","1915-08-21","1915-08-28","1915-09-04","1915-09-11","1915-09-18","1915-09-25","1915-10-02","1915-10-09","1915-10-16","1915-10-23","1915-10-30","1915-11-06","1915-11-13"]
[]
[]
["X"]
[null,"* CONSTRUCTION BEGINS"]

{"sheet":"Gantt_DC","index":19,"n_rows":5,"n_cols":835,"rows_kept":5,"cut":false,"hidden":false,"merged":[[0,1,0,5]]}
[null,"DURING CONSTRUCTION"]
[null,"UTILITY IMPACT ID","PROJECT STAGE","HIGHWAY CONTRACT WORK COMPLETED","WORKING DAYS","STARTING WORKING DAY","WEEK 1","WEEK 2","WEEK 3","WEEK 4","WEEK 5","WEEK 6","WEEK 7","WEEK 8","WEEK 9","WEEK 10","WEEK 11","WEEK 12","WEEK 13","WEEK 14","WEEK 15","WEEK 16","WEEK 17","WEEK 18","WEEK 19","WEEK 20","WEEK 21","WEEK 22","WEEK 23","WEEK 24","WEEK 25","WEEK 26","WEEK 27","WEEK 28","WEEK 29","WEEK 30","WEEK 31","WEEK 32","WEEK 33","WEEK 34","WEEK 35","WEEK 36","WEEK 37","WEEK 38","WEEK 39","WEEK 40","WEEK 41","WEEK 42","WEEK 43","WEEK 44","WEEK 45","WEEK 46","WEEK 47","WEEK 48","WEEK 49","WEEK 50","WEEK 51","WEEK 52","WEEK 53","WEEK 54","WEEK 55","WEEK 56","WEEK 57","WEEK 58","WEEK 59","WEEK 60","WEEK 61","WEEK 62","WEEK 63","WEEK 64","WEEK 65","WEEK 66","WEEK 67","WEEK 68","WEEK 69","WEEK 70","WEEK 71","WEEK 72","WEEK 73","WEEK 74","WEEK 75","WEEK 76","WEEK 77","WEEK 78","WEEK 79","WEEK 80","WEEK 81","WEEK 82","WEEK 83","WEEK 84","WEEK 85","WEEK 86","WEEK 87","WEEK 88","WEEK 89","WEEK 90","WEEK 91","WEEK 92","WEEK 93","WEEK 94","WEEK 95","WEEK 96","WEEK 97","WEEK 98","WEEK 99","WEEK 100","WEEK 101","WEEK 102","WEEK 103","WEEK 104","WEEK 105","WEEK 106","WEEK 107","WEEK 108","WEEK 109","WEEK 110","WEEK 111","WEEK 112","WEEK 113","WEEK 114","WEEK 115","WEEK 116","WEEK 117","WEEK 118","WEEK 119","WEEK 120","WEEK 121","WEEK 122","WEEK 123","WEEK 124","WEEK 125","WEEK 126","WEEK 127","WEEK 128","WEEK 129","WEEK 130","WEEK 131","WEEK 132","WEEK 133","WEEK 134","WEEK 135","WEEK 136","WEEK 137","WEEK 138","WEEK 139","WEEK 140","WEEK 141","WEEK 142","WEEK 143","WEEK 144","WEEK 145","WEEK 146","WEEK 147","WEEK 148","WEEK 149","WEEK 150","WEEK 151","WEEK 152","WEEK 153","WEEK 154","WEEK 155","WEEK 156","WEEK 157","WEEK 158","WEEK 159","WEEK 160","WEEK 161","WEEK 162","WEEK 163","WEEK 164","WEEK 165","WEEK 166","WEEK 167","WEEK 168","WEEK 169","WEEK 170","WEEK 171","WEEK 172","WEEK 173","WEEK 174","WEEK 175","WEEK 176","WEEK 177","WEEK 178","WEEK 179","WEEK 180","WEEK 181","WEEK 182","WEEK 183","WEEK 184","WEEK 185","WEEK 186","WEEK 187","WEEK 188","WEEK 189","WEEK 190","WEEK 191","WEEK 192","WEEK 193","WEEK 194","WEEK 195","WEEK 196","WEEK 197","WEEK 198","WEEK 199","WEEK 200","WEEK 201","WEEK 202","WEEK 203","WEEK 204","WEEK 205","WEEK 206","WEEK 207","WEEK 208","WEEK 209","WEEK 210","WEEK 211","WEEK 212","WEEK 213","WEEK 214","WEEK 215","WEEK 216","WEEK 217","WEEK 218","WEEK 219","WEEK 220","WEEK 221","WEEK 222","WEEK 223","WEEK 224","WEEK 225","WEEK 226","WEEK 227","WEEK 228","WEEK 229","WEEK 230","WEEK 231","WEEK 232","WEEK 233","WEEK 234","WEEK 235","WEEK 236","WEEK 237","WEEK 238","WEEK 239","WEEK 240","WEEK 241","WEEK 242","WEEK 243","WEEK 244","WEEK 245","WEEK 246","WEEK 247","WEEK 248","WEEK 249","WEEK 250","WEEK 251","WEEK 252","WEEK 253","WEEK 254","WEEK 255","WEEK 256","WEEK 257","WEEK 258","WEEK 259","WEEK 260","WEEK 261","WEEK 262","WEEK 263","WEEK 264","WEEK 265","WEEK 266","WEEK 267","WEEK 268","WEEK 269","WEEK 270","WEEK 271","WEEK 272","WEEK 273","WEEK 274","WEEK 275","WEEK 276","WEEK 277","WEEK 278","WEEK 279","WEEK 280","WEEK 281","WEEK 282","WEEK 283","WEEK 284","WEEK 285","WEEK 286","WEEK 287","WEEK 288","WEEK 289","WEEK 290","WEEK 291","WEEK 292","WEEK 293","WEEK 294","WEEK 295","WEEK 296","WEEK 297","WEEK 298","WEEK 299","WEEK 300","WEEK 301","WEEK 302","WEEK 303","WEEK 304","WEEK 305","WEEK 306","WEEK 307","WEEK 308","WEEK 309","WEEK 310","WEEK 311","WEEK 312","WEEK 313","WEEK 314","WEEK 315","WEEK 316","WEEK 317","WEEK 318","WEEK 319","WEEK 320","WEEK 321","WEEK 322","WEEK 323","WEEK 324","WEEK 325","WEEK 326","WEEK 327","WEEK 328","WEEK 329","WEEK 330","WEEK 331","WEEK 332","WEEK 333","WEEK 334","WEEK 335","WEEK 336","WEEK 337","WEEK 338","WEEK 339","WEEK 340","WEEK 341","WEEK 342","WEEK 343","WEEK 344","WEEK 345","WEEK 346","WEEK 347","WEEK 348","WEEK 349","WEEK 350","WEEK 351","WEEK 352","WEEK 353","WEEK 354","WEEK 355","WEEK 356","WEEK 357","WEEK 358","WEEK 359","WEEK 360","WEEK 361","WEEK 362","WEEK 363","WEEK 364","WEEK 365","WEEK 366","WEEK 367","WEEK 368","WEEK 369","WEEK 370","WEEK 371","WEEK 372","WEEK 373","WEEK 374","WEEK 375","WEEK 376","WEEK 377","WEEK 378","WEEK 379","WEEK 380","WEEK 381","WEEK 382","WEEK 383","WEEK 384","WEEK 385","WEEK 386","WEEK 387","WEEK 388","WEEK 389","WEEK 390","WEEK 391","WEEK 392","WEEK 393","WEEK 394","WEEK 395","WEEK 396","WEEK 397","WEEK 398","WEEK 399","WEEK 400","WEEK 401","WEEK 402","WEEK 403","WEEK 404","WEEK 405","WEEK 406","WEEK 407","WEEK 408","WEEK 409","WEEK 410","WEEK 411","WEEK 412","WEEK 413","WEEK 414","WEEK 415","WEEK 416","WEEK 417","WEEK 418","WEEK 419","WEEK 420","WEEK 421","WEEK 422","WEEK 423","WEEK 424","WEEK 425","WEEK 426","WEEK 427","WEEK 428","WEEK 429","WEEK 430","WEEK 431","WEEK 432","WEEK 433","WEEK 434","WEEK 435","WEEK 436","WEEK 437","WEEK 438","WEEK 439","WEEK 440","WEEK 441","WEEK 442","WEEK 443","WEEK 444","WEEK 445","WEEK 446","WEEK 447","WEEK 448","WEEK 449","WEEK 450","WEEK 451","WEEK 452","WEEK 453","WEEK 454","WEEK 455","WEEK 456","WEEK 457","WEEK 458","WEEK 459","WEEK 460","WEEK 461","WEEK 462","WEEK 463","WEEK 464","WEEK 465","WEEK 466","WEEK 467","WEEK 468","WEEK 469","WEEK 470","WEEK 471","WEEK 472","WEEK 473","WEEK 474","WEEK 475","WEEK 476","WEEK 477","WEEK 478","WEEK 479","WEEK 480","WEEK 481","WEEK 482","WEEK 483","WEEK 484","WEEK 485","WEEK 486","WEEK 487","WEEK 488","WEEK 489","WEEK 490","WEEK 491","WEEK 492","WEEK 493","WEEK 494","WEEK 495","WEEK 496","WEEK 497","WEEK 498","WEEK 499","WEEK 500","WEEK 501","WEEK 502","WEEK 503","WEEK 504","WEEK 505","WEEK 506","WEEK 507","WEEK 508","WEEK 509","WEEK 510","WEEK 511","WEEK 512","WEEK 513","WEEK 514","WEEK 515","WEEK 516","WEEK 517","WEEK 518","WEEK 519","WEEK 520","WEEK 521","WEEK 522","WEEK 523","WEEK 524","WEEK 525","WEEK 526","WEEK 527","WEEK 528","WEEK 529","WEEK 530","WEEK 531","WEEK 532","WEEK 533","WEEK 534","WEEK 535","WEEK 536","WEEK 537","WEEK 538","WEEK 539","WEEK 540","WEEK 541","WEEK 542","WEEK 543","WEEK 544","WEEK 545","WEEK 546","WEEK 547","WEEK 548","WEEK 549","WEEK 550","WEEK 551","WEEK 552","WEEK 553","WEEK 554","WEEK 555","WEEK 556","WEEK 557","WEEK 558","WEEK 559","WEEK 560","WEEK 561","WEEK 562","WEEK 563","WEEK 564","WEEK 565","WEEK 566","WEEK 567","WEEK 568","WEEK 569","WEEK 570","WEEK 571","WEEK 572","WEEK 573","WEEK 574","WEEK 575","WEEK 576","WEEK 577","WEEK 578","WEEK 579","WEEK 580","WEEK 581","WEEK 582","WEEK 583","WEEK 584","WEEK 585","WEEK 586","WEEK 587","WEEK 588","WEEK 589","WEEK 590","WEEK 591","WEEK 592","WEEK 593","WEEK 594","WEEK 595","WEEK 596","WEEK 597","WEEK 598","WEEK 599","WEEK 600","WEEK 601","WEEK 602","WEEK 603","WEEK 604","WEEK 605","WEEK 606","WEEK 607","WEEK 608","WEEK 609","WEEK 610","WEEK 611","WEEK 612","WEEK 613","WEEK 614","WEEK 615","WEEK 616","WEEK 617","WEEK 618","WEEK 619","WEEK 620","WEEK 621","WEEK 622","WEEK 623","WEEK 624","WEEK 625","WEEK 626","WEEK 627","WEEK 628","WEEK 629","WEEK 630","WEEK 631","WEEK 632","WEEK 633","WEEK 634","WEEK 635","WEEK 636","WEEK 637","WEEK 638","WEEK 639","WEEK 640","WEEK 641","WEEK 642","WEEK 643","WEEK 644","WEEK 645","WEEK 646","WEEK 647","WEEK 648","WEEK 649","WEEK 650","WEEK 651","WEEK 652","WEEK 653","WEEK 654","WEEK 655","WEEK 656","WEEK 657","WEEK 658","WEEK 659","WEEK 660","WEEK 661","WEEK 662","WEEK 663","WEEK 664","WEEK 665","WEEK 666","WEEK 667","WEEK 668","WEEK 669","WEEK 670","WEEK 671","WEEK 672","WEEK 673","WEEK 674","WEEK 675","WEEK 676","WEEK 677","WEEK 678","WEEK 679","WEEK 680","WEEK 681","WEEK 682","WEEK 683","WEEK 684","WEEK 685","WEEK 686","WEEK 687","WEEK 688","WEEK 689","WEEK 690","WEEK 691","WEEK 692","WEEK 693","WEEK 694","WEEK 695","WEEK 696","WEEK 697","WEEK 698","WEEK 699","WEEK 700","WEEK 701","WEEK 702","WEEK 703","WEEK 704","WEEK 705","WEEK 706","WEEK 707","WEEK 708","WEEK 709","WEEK 710","WEEK 711","WEEK 712","WEEK 713","WEEK 714","WEEK 715","WEEK 716","WEEK 717","WEEK 718","WEEK 719","WEEK 720","WEEK 721","WEEK 722","WEEK 723","WEEK 724","WEEK 725","WEEK 726","WEEK 727","WEEK 728","WEEK 729","WEEK 730","WEEK 731","WEEK 732","WEEK 733","WEEK 734","WEEK 735","WEEK 736","WEEK 737","WEEK 738","WEEK 739","WEEK 740","WEEK 741","WEEK 742","WEEK 743","WEEK 744","WEEK 745","WEEK 746","WEEK 747","WEEK 748","WEEK 749","WEEK 750","WEEK 751","WEEK 752","WEEK 753","WEEK 754","WEEK 755","WEEK 756","WEEK 757","WEEK 758","WEEK 759","WEEK 760","WEEK 761","WEEK 762","WEEK 763","WEEK 764","WEEK 765","WEEK 766","WEEK 767","WEEK 768","WEEK 769","WEEK 770","WEEK 771","WEEK 772","WEEK 773","WEEK 774","WEEK 775","WEEK 776","WEEK 777","WEEK 778","WEEK 779","WEEK 780","WEEK 781","WEEK 782","WEEK 783","WEEK 784","WEEK 785","WEEK 786","WEEK 787","WEEK 788","WEEK 789","WEEK 790","WEEK 791","WEEK 792","WEEK 793","WEEK 794","WEEK 795","WEEK 796","WEEK 797","WEEK 798","WEEK 799","WEEK 800","WEEK 801","WEEK 802","WEEK 803","WEEK 804","WEEK 805","WEEK 806","WEEK 807","WEEK 808","WEEK 809","WEEK 810","WEEK 811","WEEK 812","WEEK 813","WEEK 814","WEEK 815","WEEK 816","WEEK 817","WEEK 818","WEEK 819","WEEK 820","WEEK 821","WEEK 822","WEEK 823","WEEK 824","WEEK 825","WEEK 826","WEEK 827","WEEK 828","WEEK 829"]
[]
[]
["X"]

{"sheet":"Abbreviation","index":20,"n_rows":37,"n_cols":14,"rows_kept":37,"cut":false,"hidden":false,"merged":[]}
["UTILITY TYPES",null,null,"UTILITY ENTITIES"]
[{"$f":"Dropdowns!M5","v":"Communication Line"},{"$f":"Dropdowns!O5","v":"CL"},null,{"$f":"IF(INDIRECT(\"Dropdowns!J5\")=\"\",\"\",INDIRECT(\"Dropdowns!J5\"))","v":" - "},{"$f":"IF(INDIRECT(\"Dropdowns!K5\")=\"\",\"\",INDIRECT(\"Dropdowns!K5\"))","v":""},null,{"$f":"IF(INDIRECT(\"Dropdowns!J41\")=\"\",\"\",INDIRECT(\"Dropdowns!J41\"))","v":""},{"$f":"IF(INDIRECT(\"Dropdowns!K41\")=\"\",\"\",INDIRECT(\"Dropdowns!K41\"))","v":""},null,{"$f":"IF(INDIRECT(\"Dropdowns!J77\")=\"\",\"\",INDIRECT(\"Dropdowns!J77\"))","v":""},{"$f":"IF(INDIRECT(\"Dropdowns!K77\")=\"\",\"\",INDIRECT(\"Dropdowns!K77\"))","v":""},null,{"$f":"IF(INDIRECT(\"Dropdowns!J113\")=\"\",\"\",INDIRECT(\"Dropdowns!J113\"))","v":""},{"$f":"IF(INDIRECT(\"Dropdowns!K113\")=\"\",\"\",INDIRECT(\"Dropdowns!K113\"))","v":""}]
[{"$f":"Dropdowns!M6","v":"Communication Tower"},{"$f":"Dropdowns!O6","v":"CT"},null,{"$f":"IF(INDIRECT(\"Dropdowns!J6\")=\"\",\"\",INDIRECT(\"Dropdowns!J6\"))","v":""},{"$f":"IF(INDIRECT(\"Dropdowns!K6\")=\"\",\"\",INDIRECT(\"Dropdowns!K6\"))","v":""},null,{"$f":"IF(INDIRECT(\"Dropdowns!J42\")=\"\",\"\",INDIRECT(\"Dropdowns!J42\"))","v":""},{"$f":"IF(INDIRECT(\"Dropdowns!K42\")=\"\",\"\",INDIRECT(\"Dropdowns!K42\"))","v":""},null,{"$f":"IF(INDIRECT(\"Dropdowns!J78\")=\"\",\"\",INDIRECT(\"Dropdowns!J78\"))","v":""},{"$f":"IF(INDIRECT(\"Dropdowns!K78\")=\"\",\"\",INDIRECT(\"Dropdowns!K78\"))","v":""},null,{"$f":"IF(INDIRECT(\"Dropdowns!J114\")=\"\",\"\",INDIRECT(\"Dropdowns!J114\"))","v":""},{"$f":"IF(INDIRECT(\"Dropdowns!K114\")=\"\",\"\",INDIRECT(\"Dropdowns!K114\"))","v":""}]
[{"$f":"Dropdowns!M7","v":"Electricity - Transmission"},{"$f":"Dropdowns!O7","v":"ET"},null,{"$f":"IF(INDIRECT(\"Dropdowns!J7\")=\"\",\"\",INDIRECT(\"Dropdowns!J7\"))","v":""},{"$f":"IF(INDIRECT(\"Dropdowns!K7\")=\"\",\"\",INDIRECT(\"Dropdowns!K7\"))","v":""},null,{"$f":"IF(INDIRECT(\"Dropdowns!J43\")=\"\",\"\",INDIRECT(\"Dropdowns!J43\"))","v":""},{"$f":"IF(INDIRECT(\"Dropdowns!K43\")=\"\",\"\",INDIRECT(\"Dropdowns!K43\"))","v":""},null,{"$f":"IF(INDIRECT(\"Dropdowns!J79\")=\"\",\"\",INDIRECT(\"Dropdowns!J79\"))","v":""},{"$f":"IF(INDIRECT(\"Dropdowns!K79\")=\"\",\"\",INDIRECT(\"Dropdowns!K79\"))","v":""},null,{"$f":"IF(INDIRECT(\"Dropdowns!J115\")=\"\",\"\",INDIRECT(\"Dropdowns!J115\"))","v":""},{"$f":"IF(INDIRECT(\"Dropdowns!K115\")=\"\",\"\",INDIRECT(\"Dropdowns!K115\"))","v":""}]
[{"$f":"Dropdowns!M8","v":"Electricity"},{"$f":"Dropdowns!O8","v":"E"},null,{"$f":"IF(INDIRECT(\"Dropdowns!J8\")=\"\",\"\",INDIRECT(\"Dropdowns!J8\"))","v":""},{"$f":"IF(INDIRECT(\"Dropdowns!K8\")=\"\",\"\",INDIRECT(\"Dropdowns!K8\"))","v":""},null,{"$f":"IF(INDIRECT(\"Dropdowns!J44\")=\"\",\"\",INDIRECT(\"Dropdowns!J44\"))","v":""},{"$f":"IF(INDIRECT(\"Dropdowns!K44\")=\"\",\"\",INDIRECT(\"Dropdowns!K44\"))","v":""},null,{"$f":"IF(INDIRECT(\"Dropdowns!J80\")=\"\",\"\",INDIRECT(\"Dropdowns!J80\"))","v":""},{"$f":"IF(INDIRECT(\"Dropdowns!K80\")=\"\",\"\",INDIRECT(\"Dropdowns!K80\"))","v":""},null,{"$f":"IF(INDIRECT(\"Dropdowns!J116\")=\"\",\"\",INDIRECT(\"Dropdowns!J116\"))","v":""},{"$f":"IF(INDIRECT(\"Dropdowns!K116\")=\"\",\"\",INDIRECT(\"Dropdowns!K116\"))","v":""}]
[{"$f":"Dropdowns!M9","v":"Gas-Petroleum"},{"$f":"Dropdowns!O9","v":"G"},null,{"$f":"IF(INDIRECT(\"Dropdowns!J9\")=\"\",\"\",INDIRECT(\"Dropdowns!J9\"))","v":""},{"$f":"IF(INDIRECT(\"Dropdowns!K9\")=\"\",\"\",INDIRECT(\"Dropdowns!K9\"))","v":""},null,{"$f":"IF(INDIRECT(\"Dropdowns!J45\")=\"\",\"\",INDIRECT(\"Dropdowns!J45\"))","v":""},{"$f":"IF(INDIRECT(\"Dropdowns!K45\")=\"\",\"\",INDIRECT(\"Dropdowns!K45\"))","v":""},null,{"$f":"IF(INDIRECT(\"Dropdowns!J81\")=\"\",\"\",INDIRECT(\"Dropdowns!J81\"))","v":""},{"$f":"IF(INDIRECT(\"Dropdowns!K81\")=\"\",\"\",INDIRECT(\"Dropdowns!K81\"))","v":""},null,{"$f":"IF(INDIRECT(\"Dropdowns!J117\")=\"\",\"\",INDIRECT(\"Dropdowns!J117\"))","v":""},{"$f":"IF(INDIRECT(\"Dropdowns!K117\")=\"\",\"\",INDIRECT(\"Dropdowns!K117\"))","v":""}]
[{"$f":"Dropdowns!M10","v":"Sanitary Sewer"},{"$f":"Dropdowns!O10","v":"SAN"},null,{"$f":"IF(INDIRECT(\"Dropdowns!J10\")=\"\",\"\",INDIRECT(\"Dropdowns!J10\"))","v":""},{"$f":"IF(INDIRECT(\"Dropdowns!K10\")=\"\",\"\",INDIRECT(\"Dropdowns!K10\"))","v":""},null,{"$f":"IF(INDIRECT(\"Dropdowns!J46\")=\"\",\"\",INDIRECT(\"Dropdowns!J46\"))","v":""},{"$f":"IF(INDIRECT(\"Dropdowns!K46\")=\"\",\"\",INDIRECT(\"Dropdowns!K46\"))","v":""},null,{"$f":"IF(INDIRECT(\"Dropdowns!J82\")=\"\",\"\",INDIRECT(\"Dropdowns!J82\"))","v":""},{"$f":"IF(INDIRECT(\"Dropdowns!K82\")=\"\",\"\",INDIRECT(\"Dropdowns!K82\"))","v":""},null,{"$f":"IF(INDIRECT(\"Dropdowns!J118\")=\"\",\"\",INDIRECT(\"Dropdowns!J118\"))","v":""},{"$f":"IF(INDIRECT(\"Dropdowns!K118\")=\"\",\"\",INDIRECT(\"Dropdowns!K118\"))","v":""}]
[{"$f":"Dropdowns!M11","v":"Steam"},{"$f":"Dropdowns!O11","v":"SM"},null,{"$f":"IF(INDIRECT(\"Dropdowns!J11\")=\"\",\"\",INDIRECT(\"Dropdowns!J11\"))","v":""},{"$f":"IF(INDIRECT(\"Dropdowns!K11\")=\"\",\"\",INDIRECT(\"Dropdowns!K11\"))","v":""},null,{"$f":"IF(INDIRECT(\"Dropdowns!J47\")=\"\",\"\",INDIRECT(\"Dropdowns!J47\"))","v":""},{"$f":"IF(INDIRECT(\"Dropdowns!K47\")=\"\",\"\",INDIRECT(\"Dropdowns!K47\"))","v":""},null,{"$f":"IF(INDIRECT(\"Dropdowns!J83\")=\"\",\"\",INDIRECT(\"Dropdowns!J83\"))","v":""},{"$f":"IF(INDIRECT(\"Dropdowns!K83\")=\"\",\"\",INDIRECT(\"Dropdowns!K83\"))","v":""},null,{"$f":"IF(INDIRECT(\"Dropdowns!J119\")=\"\",\"\",INDIRECT(\"Dropdowns!J119\"))","v":""},{"$f":"IF(INDIRECT(\"Dropdowns!K119\")=\"\",\"\",INDIRECT(\"Dropdowns!K119\"))","v":""}]
[{"$f":"Dropdowns!M12","v":"Water"},{"$f":"Dropdowns!O12","v":"W"},null,{"$f":"IF(INDIRECT(\"Dropdowns!J12\")=\"\",\"\",INDIRECT(\"Dropdowns!J12\"))","v":""},{"$f":"IF(INDIRECT(\"Dropdowns!K12\")=\"\",\"\",INDIRECT(\"Dropdowns!K12\"))","v":""},null,{"$f":"IF(INDIRECT(\"Dropdowns!J48\")=\"\",\"\",INDIRECT(\"Dropdowns!J48\"))","v":""},{"$f":"IF(INDIRECT(\"Dropdowns!K48\")=\"\",\"\",INDIRECT(\"Dropdowns!K48\"))","v":""},null,{"$f":"IF(INDIRECT(\"Dropdowns!J84\")=\"\",\"\",INDIRECT(\"Dropdowns!J84\"))","v":""},{"$f":"IF(INDIRECT(\"Dropdowns!K84\")=\"\",\"\",INDIRECT(\"Dropdowns!K84\"))","v":""},null,{"$f":"IF(INDIRECT(\"Dropdowns!J120\")=\"\",\"\",INDIRECT(\"Dropdowns!J120\"))","v":""},{"$f":"IF(INDIRECT(\"Dropdowns!K120\")=\"\",\"\",INDIRECT(\"Dropdowns!K120\"))","v":""}]
[null,null,null,{"$f":"IF(INDIRECT(\"Dropdowns!J13\")=\"\",\"\",INDIRECT(\"Dropdowns!J13\"))","v":""},{"$f":"IF(INDIRECT(\"Dropdowns!K13\")=\"\",\"\",INDIRECT(\"Dropdowns!K13\"))","v":""},null,{"$f":"IF(INDIRECT(\"Dropdowns!J49\")=\"\",\"\",INDIRECT(\"Dropdowns!J49\"))","v":""},{"$f":"IF(INDIRECT(\"Dropdowns!K49\")=\"\",\"\",INDIRECT(\"Dropdowns!K49\"))","v":""},null,{"$f":"IF(INDIRECT(\"Dropdowns!J85\")=\"\",\"\",INDIRECT(\"Dropdowns!J85\"))","v":""},{"$f":"IF(INDIRECT(\"Dropdowns!K85\")=\"\",\"\",INDIRECT(\"Dropdowns!K85\"))","v":""},null,{"$f":"IF(INDIRECT(\"Dropdowns!J121\")=\"\",\"\",INDIRECT(\"Dropdowns!J121\"))","v":""},{"$f":"IF(INDIRECT(\"Dropdowns!K121\")=\"\",\"\",INDIRECT(\"Dropdowns!K121\"))","v":""}]
["GENERAL",null,null,{"$f":"IF(INDIRECT(\"Dropdowns!J14\")=\"\",\"\",INDIRECT(\"Dropdowns!J14\"))","v":""},{"$f":"IF(INDIRECT(\"Dropdowns!K14\")=\"\",\"\",INDIRECT(\"Dropdowns!K14\"))","v":""},null,{"$f":"IF(INDIRECT(\"Dropdowns!J50\")=\"\",\"\",INDIRECT(\"Dropdowns!J50\"))","v":""},{"$f":"IF(INDIRECT(\"Dropdowns!K50\")=\"\",\"\",INDIRECT(\"Dropdowns!K50\"))","v":""},null,{"$f":"IF(INDIRECT(\"Dropdowns!J86\")=\"\",\"\",INDIRECT(\"Dropdowns!J86\"))","v":""},{"$f":"IF(INDIRECT(\"Dropdowns!K86\")=\"\",\"\",INDIRECT(\"Dropdowns!K86\"))","v":""},null,{"$f":"IF(INDIRECT(\"Dropdowns!J122\")=\"\",\"\",INDIRECT(\"Dropdowns!J122\"))","v":""},{"$f":"IF(INDIRECT(\"Dropdowns!K122\")=\"\",\"\",INDIRECT(\"Dropdowns!K122\"))","v":""}]
["Discontinued In Place","D",null,{"$f":"IF(INDIRECT(\"Dropdowns!J15\")=\"\",\"\",INDIRECT(\"Dropdowns!J15\"))","v":""},{"$f":"IF(INDIRECT(\"Dropdowns!K15\")=\"\",\"\",INDIRECT(\"Dropdowns!K15\"))","v":""},null,{"$f":"IF(INDIRECT(\"Dropdowns!J51\")=\"\",\"\",INDIRECT(\"Dropdowns!J51\"))","v":""},{"$f":"IF(INDIRECT(\"Dropdowns!K51\")=\"\",\"\",INDIRECT(\"Dropdowns!K51\"))","v":""},null,{"$f":"IF(INDIRECT(\"Dropdowns!J87\")=\"\",\"\",INDIRECT(\"Dropdowns!J87\"))","v":""},{"$f":"IF(INDIRECT(\"Dropdowns!K87\")=\"\",\"\",INDIRECT(\"Dropdowns!K87\"))","v":""},null,{"$f":"IF(INDIRECT(\"Dropdowns!J123\")=\"\",\"\",INDIRECT(\"Dropdowns!J123\"))","v":""},{"$f":"IF(INDIRECT(\"Dropdowns!K123\")=\"\",\"\",INDIRECT(\"Dropdowns!K123\"))","v":""}]
["Removed","R",null,{"$f":"IF(INDIRECT(\"Dropdowns!J16\")=\"\",\"\",INDIRECT(\"Dropdowns!J16\"))","v":""},{"$f":"IF(INDIRECT(\"Dropdowns!K16\")=\"\",\"\",INDIRECT(\"Dropdowns!K16\"))","v":""},null,{"$f":"IF(INDIRECT(\"Dropdowns!J52\")=\"\",\"\",INDIRECT(\"Dropdowns!J52\"))","v":""},{"$f":"IF(INDIRECT(\"Dropdowns!K52\")=\"\",\"\",INDIRECT(\"Dropdowns!K52\"))","v":""},null,{"$f":"IF(INDIRECT(\"Dropdowns!J88\")=\"\",\"\",INDIRECT(\"Dropdowns!J88\"))","v":""},{"$f":"IF(INDIRECT(\"Dropdowns!K88\")=\"\",\"\",INDIRECT(\"Dropdowns!K88\"))","v":""},null,{"$f":"IF(INDIRECT(\"Dropdowns!J124\")=\"\",\"\",INDIRECT(\"Dropdowns!J124\"))","v":""},{"$f":"IF(INDIRECT(\"Dropdowns!K124\")=\"\",\"\",INDIRECT(\"Dropdowns!K124\"))","v":""}]
["Overhead","OH",null,{"$f":"IF(INDIRECT(\"Dropdowns!J17\")=\"\",\"\",INDIRECT(\"Dropdowns!J17\"))","v":""},{"$f":"IF(INDIRECT(\"Dropdowns!K17\")=\"\",\"\",INDIRECT(\"Dropdowns!K17\"))","v":""},null,{"$f":"IF(INDIRECT(\"Dropdowns!J53\")=\"\",\"\",INDIRECT(\"Dropdowns!J53\"))","v":""},{"$f":"IF(INDIRECT(\"Dropdowns!K53\")=\"\",\"\",INDIRECT(\"Dropdowns!K53\"))","v":""},null,{"$f":"IF(INDIRECT(\"Dropdowns!J89\")=\"\",\"\",INDIRECT(\"Dropdowns!J89\"))","v":""},{"$f":"IF(INDIRECT(\"Dropdowns!K89\")=\"\",\"\",INDIRECT(\"Dropdowns!K89\"))","v":""},null,{"$f":"IF(INDIRECT(\"Dropdowns!J125\")=\"\",\"\",INDIRECT(\"Dropdowns!J125\"))","v":""},{"$f":"IF(INDIRECT(\"Dropdowns!K125\")=\"\",\"\",INDIRECT(\"Dropdowns!K125\"))","v":""}]
["Underground","UG",null,{"$f":"IF(INDIRECT(\"Dropdowns!J18\")=\"\",\"\",INDIRECT(\"Dropdowns!J18\"))","v":""},{"$f":"IF(INDIRECT(\"Dropdowns!K18\")=\"\",\"\",INDIRECT(\"Dropdowns!K18\"))","v":""},null,{"$f":"IF(INDIRECT(\"Dropdowns!J54\")=\"\",\"\",INDIRECT(\"Dropdowns!J54\"))","v":""},{"$f":"IF(INDIRECT(\"Dropdowns!K54\")=\"\",\"\",INDIRECT(\"Dropdowns!K54\"))","v":""},null,{"$f":"IF(INDIRECT(\"Dropdowns!J90\")=\"\",\"\",INDIRECT(\"Dropdowns!J90\"))","v":""},{"$f":"IF(INDIRECT(\"Dropdowns!K90\")=\"\",\"\",INDIRECT(\"Dropdowns!K90\"))","v":""},null,{"$f":"IF(INDIRECT(\"Dropdowns!J126\")=\"\",\"\",INDIRECT(\"Dropdowns!J126\"))","v":""},{"$f":"IF(INDIRECT(\"Dropdowns!K126\")=\"\",\"\",INDIRECT(\"Dropdowns!K126\"))","v":""}]
["Additional","ADD",null,{"$f":"IF(INDIRECT(\"Dropdowns!J19\")=\"\",\"\",INDIRECT(\"Dropdowns!J19\"))","v":""},{"$f":"IF(INDIRECT(\"Dropdowns!K19\")=\"\",\"\",INDIRECT(\"Dropdowns!K19\"))","v":""},null,{"$f":"IF(INDIRECT(\"Dropdowns!J55\")=\"\",\"\",INDIRECT(\"Dropdowns!J55\"))","v":""},{"$f":"IF(INDIRECT(\"Dropdowns!K55\")=\"\",\"\",INDIRECT(\"Dropdowns!K55\"))","v":""},null,{"$f":"IF(INDIRECT(\"Dropdowns!J91\")=\"\",\"\",INDIRECT(\"Dropdowns!J91\"))","v":""},{"$f":"IF(INDIRECT(\"Dropdowns!K91\")=\"\",\"\",INDIRECT(\"Dropdowns!K91\"))","v":""},null,{"$f":"IF(INDIRECT(\"Dropdowns!J127\")=\"\",\"\",INDIRECT(\"Dropdowns!J127\"))","v":""},{"$f":"IF(INDIRECT(\"Dropdowns!K127\")=\"\",\"\",INDIRECT(\"Dropdowns!K127\"))","v":""}]
["Information","INFO",null,{"$f":"IF(INDIRECT(\"Dropdowns!J20\")=\"\",\"\",INDIRECT(\"Dropdowns!J20\"))","v":""},{"$f":"IF(INDIRECT(\"Dropdowns!K20\")=\"\",\"\",INDIRECT(\"Dropdowns!K20\"))","v":""},null,{"$f":"IF(INDIRECT(\"Dropdowns!J56\")=\"\",\"\",INDIRECT(\"Dropdowns!J56\"))","v":""},{"$f":"IF(INDIRECT(\"Dropdowns!K56\")=\"\",\"\",INDIRECT(\"Dropdowns!K56\"))","v":""},null,{"$f":"IF(INDIRECT(\"Dropdowns!J92\")=\"\",\"\",INDIRECT(\"Dropdowns!J92\"))","v":""},{"$f":"IF(INDIRECT(\"Dropdowns!K92\")=\"\",\"\",INDIRECT(\"Dropdowns!K92\"))","v":""},null,{"$f":"IF(INDIRECT(\"Dropdowns!J128\")=\"\",\"\",INDIRECT(\"Dropdowns!J128\"))","v":""},{"$f":"IF(INDIRECT(\"Dropdowns!K128\")=\"\",\"\",INDIRECT(\"Dropdowns!K128\"))","v":""}]
["Left","LT",null,{"$f":"IF(INDIRECT(\"Dropdowns!J21\")=\"\",\"\",INDIRECT(\"Dropdowns!J21\"))","v":""},{"$f":"IF(INDIRECT(\"Dropdowns!K21\")=\"\",\"\",INDIRECT(\"Dropdowns!K21\"))","v":""},null,{"$f":"IF(INDIRECT(\"Dropdowns!J57\")=\"\",\"\",INDIRECT(\"Dropdowns!J57\"))","v":""},{"$f":"IF(INDIRECT(\"Dropdowns!K57\")=\"\",\"\",INDIRECT(\"Dropdowns!K57\"))","v":""},null,{"$f":"IF(INDIRECT(\"Dropdowns!J93\")=\"\",\"\",INDIRECT(\"Dropdowns!J93\"))","v":""},{"$f":"IF(INDIRECT(\"Dropdowns!K93\")=\"\",\"\",INDIRECT(\"Dropdowns!K93\"))","v":""},null,{"$f":"IF(INDIRECT(\"Dropdowns!J129\")=\"\",\"\",INDIRECT(\"Dropdowns!J129\"))","v":""},{"$f":"IF(INDIRECT(\"Dropdowns!K129\")=\"\",\"\",INDIRECT(\"Dropdowns!K129\"))","v":""}]
["Right","RT",null,{"$f":"IF(INDIRECT(\"Dropdowns!J22\")=\"\",\"\",INDIRECT(\"Dropdowns!J22\"))","v":""},{"$f":"IF(INDIRECT(\"Dropdowns!K22\")=\"\",\"\",INDIRECT(\"Dropdowns!K22\"))","v":""},null,{"$f":"IF(INDIRECT(\"Dropdowns!J58\")=\"\",\"\",INDIRECT(\"Dropdowns!J58\"))","v":""},{"$f":"IF(INDIRECT(\"Dropdowns!K58\")=\"\",\"\",INDIRECT(\"Dropdowns!K58\"))","v":""},null,{"$f":"IF(INDIRECT(\"Dropdowns!J94\")=\"\",\"\",INDIRECT(\"Dropdowns!J94\"))","v":""},{"$f":"IF(INDIRECT(\"Dropdowns!K94\")=\"\",\"\",INDIRECT(\"Dropdowns!K94\"))","v":""},null,{"$f":"IF(INDIRECT(\"Dropdowns!J130\")=\"\",\"\",INDIRECT(\"Dropdowns!J130\"))","v":""},{"$f":"IF(INDIRECT(\"Dropdowns!K130\")=\"\",\"\",INDIRECT(\"Dropdowns!K130\"))","v":""}]
["Alignment","ALG",null,{"$f":"IF(INDIRECT(\"Dropdowns!J23\")=\"\",\"\",INDIRECT(\"Dropdowns!J23\"))","v":""},{"$f":"IF(INDIRECT(\"Dropdowns!K23\")=\"\",\"\",INDIRECT(\"Dropdowns!K23\"))","v":""},null,{"$f":"IF(INDIRECT(\"Dropdowns!J59\")=\"\",\"\",INDIRECT(\"Dropdowns!J59\"))","v":""},{"$f":"IF(INDIRECT(\"Dropdowns!K59\")=\"\",\"\",INDIRECT(\"Dropdowns!K59\"))","v":""},null,{"$f":"IF(INDIRECT(\"Dropdowns!J95\")=\"\",\"\",INDIRECT(\"Dropdowns!J95\"))","v":""},{"$f":"IF(INDIRECT(\"Dropdowns!K95\")=\"\",\"\",INDIRECT(\"Dropdowns!K95\"))","v":""},null,{"$f":"IF(INDIRECT(\"Dropdowns!J131\")=\"\",\"\",INDIRECT(\"Dropdowns!J131\"))","v":""},{"$f":"IF(INDIRECT(\"Dropdowns!K131\")=\"\",\"\",INDIRECT(\"Dropdowns!K131\"))","v":""}]
["Project","PROJ",null,{"$f":"IF(INDIRECT(\"Dropdowns!J24\")=\"\",\"\",INDIRECT(\"Dropdowns!J24\"))","v":""},{"$f":"IF(INDIRECT(\"Dropdowns!K24\")=\"\",\"\",INDIRECT(\"Dropdowns!K24\"))","v":""},null,{"$f":"IF(INDIRECT(\"Dropdowns!J60\")=\"\",\"\",INDIRECT(\"Dropdowns!J60\"))","v":""},{"$f":"IF(INDIRECT(\"Dropdowns!K60\")=\"\",\"\",INDIRECT(\"Dropdowns!K60\"))","v":""},null,{"$f":"IF(INDIRECT(\"Dropdowns!J96\")=\"\",\"\",INDIRECT(\"Dropdowns!J96\"))","v":""},{"$f":"IF(INDIRECT(\"Dropdowns!K96\")=\"\",\"\",INDIRECT(\"Dropdowns!K96\"))","v":""},null,{"$f":"IF(INDIRECT(\"Dropdowns!J132\")=\"\",\"\",INDIRECT(\"Dropdowns!J132\"))","v":""},{"$f":"IF(INDIRECT(\"Dropdowns!K132\")=\"\",\"\",INDIRECT(\"Dropdowns!K132\"))","v":""}]
[null,null,null,{"$f":"IF(INDIRECT(\"Dropdowns!J25\")=\"\",\"\",INDIRECT(\"Dropdowns!J25\"))","v":""},{"$f":"IF(INDIRECT(\"Dropdowns!K25\")=\"\",\"\",INDIRECT(\"Dropdowns!K25\"))","v":""},null,{"$f":"IF(INDIRECT(\"Dropdowns!J61\")=\"\",\"\",INDIRECT(\"Dropdowns!J61\"))","v":""},{"$f":"IF(INDIRECT(\"Dropdowns!K61\")=\"\",\"\",INDIRECT(\"Dropdowns!K61\"))","v":""},null,{"$f":"IF(INDIRECT(\"Dropdowns!J97\")=\"\",\"\",INDIRECT(\"Dropdowns!J97\"))","v":""},{"$f":"IF(INDIRECT(\"Dropdowns!K97\")=\"\",\"\",INDIRECT(\"Dropdowns!K97\"))","v":""},null,{"$f":"IF(INDIRECT(\"Dropdowns!J133\")=\"\",\"\",INDIRECT(\"Dropdowns!J133\"))","v":""},{"$f":"IF(INDIRECT(\"Dropdowns!K133\")=\"\",\"\",INDIRECT(\"Dropdowns!K133\"))","v":""}]
[null,null,null,{"$f":"IF(INDIRECT(\"Dropdowns!J26\")=\"\",\"\",INDIRECT(\"Dropdowns!J26\"))","v":""},{"$f":"IF(INDIRECT(\"Dropdowns!K26\")=\"\",\"\",INDIRECT(\"Dropdowns!K26\"))","v":""},null,{"$f":"IF(INDIRECT(\"Dropdowns!J62\")=\"\",\"\",INDIRECT(\"Dropdowns!J62\"))","v":""},{"$f":"IF(INDIRECT(\"Dropdowns!K62\")=\"\",\"\",INDIRECT(\"Dropdowns!K62\"))","v":""},null,{"$f":"IF(INDIRECT(\"Dropdowns!J98\")=\"\",\"\",INDIRECT(\"Dropdowns!J98\"))","v":""},{"$f":"IF(INDIRECT(\"Dropdowns!K98\")=\"\",\"\",INDIRECT(\"Dropdowns!K98\"))","v":""},null,{"$f":"IF(INDIRECT(\"Dropdowns!J134\")=\"\",\"\",INDIRECT(\"Dropdowns!J134\"))","v":""},{"$f":"IF(INDIRECT(\"Dropdowns!K134\")=\"\",\"\",INDIRECT(\"Dropdowns!K134\"))","v":""}]
[null,null,null,{"$f":"IF(INDIRECT(\"Dropdowns!J27\")=\"\",\"\",INDIRECT(\"Dropdowns!J27\"))","v":""},{"$f":"IF(INDIRECT(\"Dropdowns!K27\")=\"\",\"\",INDIRECT(\"Dropdowns!K27\"))","v":""},null,{"$f":"IF(INDIRECT(\"Dropdowns!J63\")=\"\",\"\",INDIRECT(\"Dropdowns!J63\"))","v":""},{"$f":"IF(INDIRECT(\"Dropdowns!K63\")=\"\",\"\",INDIRECT(\"Dropdowns!K63\"))","v":""},null,{"$f":"IF(INDIRECT(\"Dropdowns!J99\")=\"\",\"\",INDIRECT(\"Dropdowns!J99\"))","v":""},{"$f":"IF(INDIRECT(\"Dropdowns!K99\")=\"\",\"\",INDIRECT(\"Dropdowns!K99\"))","v":""},null,{"$f":"IF(INDIRECT(\"Dropdowns!J135\")=\"\",\"\",INDIRECT(\"Dropdowns!J135\"))","v":""},{"$f":"IF(INDIRECT(\"Dropdowns!K135\")=\"\",\"\",INDIRECT(\"Dropdowns!K135\"))","v":""}]
[null,null,null,{"$f":"IF(INDIRECT(\"Dropdowns!J28\")=\"\",\"\",INDIRECT(\"Dropdowns!J28\"))","v":""},{"$f":"IF(INDIRECT(\"Dropdowns!K28\")=\"\",\"\",INDIRECT(\"Dropdowns!K28\"))","v":""},null,{"$f":"IF(INDIRECT(\"Dropdowns!J64\")=\"\",\"\",INDIRECT(\"Dropdowns!J64\"))","v":""},{"$f":"IF(INDIRECT(\"Dropdowns!K64\")=\"\",\"\",INDIRECT(\"Dropdowns!K64\"))","v":""},null,{"$f":"IF(INDIRECT(\"Dropdowns!J100\")=\"\",\"\",INDIRECT(\"Dropdowns!J100\"))","v":""},{"$f":"IF(INDIRECT(\"Dropdowns!K100\")=\"\",\"\",INDIRECT(\"Dropdowns!K100\"))","v":""},null,{"$f":"IF(INDIRECT(\"Dropdowns!J136\")=\"\",\"\",INDIRECT(\"Dropdowns!J136\"))","v":""},{"$f":"IF(INDIRECT(\"Dropdowns!K136\")=\"\",\"\",INDIRECT(\"Dropdowns!K136\"))","v":""}]
[null,null,null,{"$f":"IF(INDIRECT(\"Dropdowns!J29\")=\"\",\"\",INDIRECT(\"Dropdowns!J29\"))","v":""},{"$f":"IF(INDIRECT(\"Dropdowns!K29\")=\"\",\"\",INDIRECT(\"Dropdowns!K29\"))","v":""},null,{"$f":"IF(INDIRECT(\"Dropdowns!J65\")=\"\",\"\",INDIRECT(\"Dropdowns!J65\"))","v":""},{"$f":"IF(INDIRECT(\"Dropdowns!K65\")=\"\",\"\",INDIRECT(\"Dropdowns!K65\"))","v":""},null,{"$f":"IF(INDIRECT(\"Dropdowns!J101\")=\"\",\"\",INDIRECT(\"Dropdowns!J101\"))","v":""},{"$f":"IF(INDIRECT(\"Dropdowns!K101\")=\"\",\"\",INDIRECT(\"Dropdowns!K101\"))","v":""},null,{"$f":"IF(INDIRECT(\"Dropdowns!J137\")=\"\",\"\",INDIRECT(\"Dropdowns!J137\"))","v":""},{"$f":"IF(INDIRECT(\"Dropdowns!K137\")=\"\",\"\",INDIRECT(\"Dropdowns!K137\"))","v":""}]
[null,null,null,{"$f":"IF(INDIRECT(\"Dropdowns!J30\")=\"\",\"\",INDIRECT(\"Dropdowns!J30\"))","v":""},{"$f":"IF(INDIRECT(\"Dropdowns!K30\")=\"\",\"\",INDIRECT(\"Dropdowns!K30\"))","v":""},null,{"$f":"IF(INDIRECT(\"Dropdowns!J66\")=\"\",\"\",INDIRECT(\"Dropdowns!J66\"))","v":""},{"$f":"IF(INDIRECT(\"Dropdowns!K66\")=\"\",\"\",INDIRECT(\"Dropdowns!K66\"))","v":""},null,{"$f":"IF(INDIRECT(\"Dropdowns!J102\")=\"\",\"\",INDIRECT(\"Dropdowns!J102\"))","v":""},{"$f":"IF(INDIRECT(\"Dropdowns!K102\")=\"\",\"\",INDIRECT(\"Dropdowns!K102\"))","v":""},null,{"$f":"IF(INDIRECT(\"Dropdowns!J138\")=\"\",\"\",INDIRECT(\"Dropdowns!J138\"))","v":""},{"$f":"IF(INDIRECT(\"Dropdowns!K138\")=\"\",\"\",INDIRECT(\"Dropdowns!K138\"))","v":""}]
[null,null,null,{"$f":"IF(INDIRECT(\"Dropdowns!J31\")=\"\",\"\",INDIRECT(\"Dropdowns!J31\"))","v":""},{"$f":"IF(INDIRECT(\"Dropdowns!K31\")=\"\",\"\",INDIRECT(\"Dropdowns!K31\"))","v":""},null,{"$f":"IF(INDIRECT(\"Dropdowns!J67\")=\"\",\"\",INDIRECT(\"Dropdowns!J67\"))","v":""},{"$f":"IF(INDIRECT(\"Dropdowns!K67\")=\"\",\"\",INDIRECT(\"Dropdowns!K67\"))","v":""},null,{"$f":"IF(INDIRECT(\"Dropdowns!J103\")=\"\",\"\",INDIRECT(\"Dropdowns!J103\"))","v":""},{"$f":"IF(INDIRECT(\"Dropdowns!K103\")=\"\",\"\",INDIRECT(\"Dropdowns!K103\"))","v":""},null,{"$f":"IF(INDIRECT(\"Dropdowns!J139\")=\"\",\"\",INDIRECT(\"Dropdowns!J139\"))","v":""},{"$f":"IF(INDIRECT(\"Dropdowns!K139\")=\"\",\"\",INDIRECT(\"Dropdowns!K139\"))","v":""}]
[null,null,null,{"$f":"IF(INDIRECT(\"Dropdowns!J32\")=\"\",\"\",INDIRECT(\"Dropdowns!J32\"))","v":""},{"$f":"IF(INDIRECT(\"Dropdowns!K32\")=\"\",\"\",INDIRECT(\"Dropdowns!K32\"))","v":""},null,{"$f":"IF(INDIRECT(\"Dropdowns!J68\")=\"\",\"\",INDIRECT(\"Dropdowns!J68\"))","v":""},{"$f":"IF(INDIRECT(\"Dropdowns!K68\")=\"\",\"\",INDIRECT(\"Dropdowns!K68\"))","v":""},null,{"$f":"IF(INDIRECT(\"Dropdowns!J104\")=\"\",\"\",INDIRECT(\"Dropdowns!J104\"))","v":""},{"$f":"IF(INDIRECT(\"Dropdowns!K104\")=\"\",\"\",INDIRECT(\"Dropdowns!K104\"))","v":""},null,{"$f":"IF(INDIRECT(\"Dropdowns!J140\")=\"\",\"\",INDIRECT(\"Dropdowns!J140\"))","v":""},{"$f":"IF(INDIRECT(\"Dropdowns!K140\")=\"\",\"\",INDIRECT(\"Dropdowns!K140\"))","v":""}]
[null,null,null,{"$f":"IF(INDIRECT(\"Dropdowns!J33\")=\"\",\"\",INDIRECT(\"Dropdowns!J33\"))","v":""},{"$f":"IF(INDIRECT(\"Dropdowns!K33\")=\"\",\"\",INDIRECT(\"Dropdowns!K33\"))","v":""},null,{"$f":"IF(INDIRECT(\"Dropdowns!J69\")=\"\",\"\",INDIRECT(\"Dropdowns!J69\"))","v":""},{"$f":"IF(INDIRECT(\"Dropdowns!K69\")=\"\",\"\",INDIRECT(\"Dropdowns!K69\"))","v":""},null,{"$f":"IF(INDIRECT(\"Dropdowns!J105\")=\"\",\"\",INDIRECT(\"Dropdowns!J105\"))","v":""},{"$f":"IF(INDIRECT(\"Dropdowns!K105\")=\"\",\"\",INDIRECT(\"Dropdowns!K105\"))","v":""},null,{"$f":"IF(INDIRECT(\"Dropdowns!J141\")=\"\",\"\",INDIRECT(\"Dropdowns!J141\"))","v":""},{"$f":"IF(INDIRECT(\"Dropdowns!K141\")=\"\",\"\",INDIRECT(\"Dropdowns!K141\"))","v":""}]
[null,null,null,{"$f":"IF(INDIRECT(\"Dropdowns!J34\")=\"\",\"\",INDIRECT(\"Dropdowns!J34\"))","v":""},{"$f":"IF(INDIRECT(\"Dropdowns!K34\")=\"\",\"\",INDIRECT(\"Dropdowns!K34\"))","v":""},null,{"$f":"IF(INDIRECT(\"Dropdowns!J70\")=\"\",\"\",INDIRECT(\"Dropdowns!J70\"))","v":""},{"$f":"IF(INDIRECT(\"Dropdowns!K70\")=\"\",\"\",INDIRECT(\"Dropdowns!K70\"))","v":""},null,{"$f":"IF(INDIRECT(\"Dropdowns!J106\")=\"\",\"\",INDIRECT(\"Dropdowns!J106\"))","v":""},{"$f":"IF(INDIRECT(\"Dropdowns!K106\")=\"\",\"\",INDIRECT(\"Dropdowns!K106\"))","v":""},null,{"$f":"IF(INDIRECT(\"Dropdowns!J142\")=\"\",\"\",INDIRECT(\"Dropdowns!J142\"))","v":""},{"$f":"IF(INDIRECT(\"Dropdowns!K142\")=\"\",\"\",INDIRECT(\"Dropdowns!K142\"))","v":""}]
[null,null,null,{"$f":"IF(INDIRECT(\"Dropdowns!J35\")=\"\",\"\",INDIRECT(\"Dropdowns!J35\"))","v":""},{"$f":"IF(INDIRECT(\"Dropdowns!K35\")=\"\",\"\",INDIRECT(\"Dropdowns!K35\"))","v":""},null,{"$f":"IF(INDIRECT(\"Dropdowns!J71\")=\"\",\"\",INDIRECT(\"Dropdowns!J71\"))","v":""},{"$f":"IF(INDIRECT(\"Dropdowns!K71\")=\"\",\"\",INDIRECT(\"Dropdowns!K71\"))","v":""},null,{"$f":"IF(INDIRECT(\"Dropdowns!J107\")=\"\",\"\",INDIRECT(\"Dropdowns!J107\"))","v":""},{"$f":"IF(INDIRECT(\"Dropdowns!K107\")=\"\",\"\",INDIRECT(\"Dropdowns!K107\"))","v":""},null,{"$f":"IF(INDIRECT(\"Dropdowns!J143\")=\"\",\"\",INDIRECT(\"Dropdowns!J143\"))","v":""},{"$f":"IF(INDIRECT(\"Dropdowns!K143\")=\"\",\"\",INDIRECT(\"Dropdowns!K143\"))","v":""}]
[null,null,null,{"$f":"IF(INDIRECT(\"Dropdowns!J36\")=\"\",\"\",INDIRECT(\"Dropdowns!J36\"))","v":""},{"$f":"IF(INDIRECT(\"Dropdowns!K36\")=\"\",\"\",INDIRECT(\"Dropdowns!K36\"))","v":""},null,{"$f":"IF(INDIRECT(\"Dropdowns!J72\")=\"\",\"\",INDIRECT(\"Dropdowns!J72\"))","v":""},{"$f":"IF(INDIRECT(\"Dropdowns!K72\")=\"\",\"\",INDIRECT(\"Dropdowns!K72\"))","v":""},null,{"$f":"IF(INDIRECT(\"Dropdowns!J108\")=\"\",\"\",INDIRECT(\"Dropdowns!J108\"))","v":""},{"$f":"IF(INDIRECT(\"Dropdowns!K108\")=\"\",\"\",INDIRECT(\"Dropdowns!K108\"))","v":""},null,{"$f":"IF(INDIRECT(\"Dropdowns!J144\")=\"\",\"\",INDIRECT(\"Dropdowns!J144\"))","v":""},{"$f":"IF(INDIRECT(\"Dropdowns!K144\")=\"\",\"\",INDIRECT(\"Dropdowns!K144\"))","v":""}]
[null,null,null,{"$f":"IF(INDIRECT(\"Dropdowns!J37\")=\"\",\"\",INDIRECT(\"Dropdowns!J37\"))","v":""},{"$f":"IF(INDIRECT(\"Dropdowns!K37\")=\"\",\"\",INDIRECT(\"Dropdowns!K37\"))","v":""},null,{"$f":"IF(INDIRECT(\"Dropdowns!J73\")=\"\",\"\",INDIRECT(\"Dropdowns!J73\"))","v":""},{"$f":"IF(INDIRECT(\"Dropdowns!K73\")=\"\",\"\",INDIRECT(\"Dropdowns!K73\"))","v":""},null,{"$f":"IF(INDIRECT(\"Dropdowns!J109\")=\"\",\"\",INDIRECT(\"Dropdowns!J109\"))","v":""},{"$f":"IF(INDIRECT(\"Dropdowns!K109\")=\"\",\"\",INDIRECT(\"Dropdowns!K109\"))","v":""},null,{"$f":"IF(INDIRECT(\"Dropdowns!J145\")=\"\",\"\",INDIRECT(\"Dropdowns!J145\"))","v":""},{"$f":"IF(INDIRECT(\"Dropdowns!K145\")=\"\",\"\",INDIRECT(\"Dropdowns!K145\"))","v":""}]
[null,null,null,{"$f":"IF(INDIRECT(\"Dropdowns!J38\")=\"\",\"\",INDIRECT(\"Dropdowns!J38\"))","v":""},{"$f":"IF(INDIRECT(\"Dropdowns!K38\")=\"\",\"\",INDIRECT(\"Dropdowns!K38\"))","v":""},null,{"$f":"IF(INDIRECT(\"Dropdowns!J74\")=\"\",\"\",INDIRECT(\"Dropdowns!J74\"))","v":""},{"$f":"IF(INDIRECT(\"Dropdowns!K74\")=\"\",\"\",INDIRECT(\"Dropdowns!K74\"))","v":""},null,{"$f":"IF(INDIRECT(\"Dropdowns!J110\")=\"\",\"\",INDIRECT(\"Dropdowns!J110\"))","v":""},{"$f":"IF(INDIRECT(\"Dropdowns!K110\")=\"\",\"\",INDIRECT(\"Dropdowns!K110\"))","v":""},null,{"$f":"IF(INDIRECT(\"Dropdowns!J146\")=\"\",\"\",INDIRECT(\"Dropdowns!J146\"))","v":""},{"$f":"IF(INDIRECT(\"Dropdowns!K146\")=\"\",\"\",INDIRECT(\"Dropdowns!K146\"))","v":""}]
[null,null,null,{"$f":"IF(INDIRECT(\"Dropdowns!J39\")=\"\",\"\",INDIRECT(\"Dropdowns!J39\"))","v":""},{"$f":"IF(INDIRECT(\"Dropdowns!K39\")=\"\",\"\",INDIRECT(\"Dropdowns!K39\"))","v":""},null,{"$f":"IF(INDIRECT(\"Dropdowns!J75\")=\"\",\"\",INDIRECT(\"Dropdowns!J75\"))","v":""},{"$f":"IF(INDIRECT(\"Dropdowns!K75\")=\"\",\"\",INDIRECT(\"Dropdowns!K75\"))","v":""},null,{"$f":"IF(INDIRECT(\"Dropdowns!J111\")=\"\",\"\",INDIRECT(\"Dropdowns!J111\"))","v":""},{"$f":"IF(INDIRECT(\"Dropdowns!K111\")=\"\",\"\",INDIRECT(\"Dropdowns!K111\"))","v":""},null,{"$f":"IF(INDIRECT(\"Dropdowns!J147\")=\"\",\"\",INDIRECT(\"Dropdowns!J147\"))","v":""},{"$f":"IF(INDIRECT(\"Dropdowns!K147\")=\"\",\"\",INDIRECT(\"Dropdowns!K147\"))","v":""}]
[null,null,null,{"$f":"IF(INDIRECT(\"Dropdowns!J40\")=\"\",\"\",INDIRECT(\"Dropdowns!J40\"))","v":""},{"$f":"IF(INDIRECT(\"Dropdowns!K40\")=\"\",\"\",INDIRECT(\"Dropdowns!K40\"))","v":""},null,{"$f":"IF(INDIRECT(\"Dropdowns!J76\")=\"\",\"\",INDIRECT(\"Dropdowns!J76\"))","v":""},{"$f":"IF(INDIRECT(\"Dropdowns!K76\")=\"\",\"\",INDIRECT(\"Dropdowns!K76\"))","v":""},null,{"$f":"IF(INDIRECT(\"Dropdowns!J112\")=\"\",\"\",INDIRECT(\"Dropdowns!J112\"))","v":""},{"$f":"IF(INDIRECT(\"Dropdowns!K112\")=\"\",\"\",INDIRECT(\"Dropdowns!K112\"))","v":""},null,{"$f":"IF(INDIRECT(\"Dropdowns!J148\")=\"\",\"\",INDIRECT(\"Dropdowns!J148\"))","v":""},{"$f":"IF(INDIRECT(\"Dropdowns!K148\")=\"\",\"\",INDIRECT(\"Dropdowns!K148\"))","v":""}]